BEGIN:VCALENDAR
VERSION:2.0
PRODID:-//Greater Minden Chamber - ECPv6.15.20//NONSGML v1.0//EN
CALSCALE:GREGORIAN
METHOD:PUBLISH
X-ORIGINAL-URL:https://greatermindenchamber.com
X-WR-CALDESC:Events for Greater Minden Chamber
REFRESH-INTERVAL;VALUE=DURATION:PT1H
X-Robots-Tag:noindex
X-PUBLISHED-TTL:PT1H
BEGIN:VTIMEZONE
TZID:America/Chicago
BEGIN:DAYLIGHT
TZOFFSETFROM:-0600
TZOFFSETTO:-0500
TZNAME:CDT
DTSTART:20180311T080000
END:DAYLIGHT
BEGIN:STANDARD
TZOFFSETFROM:-0500
TZOFFSETTO:-0600
TZNAME:CST
DTSTART:20181104T070000
END:STANDARD
BEGIN:DAYLIGHT
TZOFFSETFROM:-0600
TZOFFSETTO:-0500
TZNAME:CDT
DTSTART:20190310T080000
END:DAYLIGHT
BEGIN:STANDARD
TZOFFSETFROM:-0500
TZOFFSETTO:-0600
TZNAME:CST
DTSTART:20191103T070000
END:STANDARD
BEGIN:DAYLIGHT
TZOFFSETFROM:-0600
TZOFFSETTO:-0500
TZNAME:CDT
DTSTART:20200308T080000
END:DAYLIGHT
BEGIN:STANDARD
TZOFFSETFROM:-0500
TZOFFSETTO:-0600
TZNAME:CST
DTSTART:20201101T070000
END:STANDARD
END:VTIMEZONE
BEGIN:VEVENT
DTSTART;VALUE=DATE:20191001
DTEND;VALUE=DATE:20191006
DTSTAMP:20260420T055802
CREATED:20190820T150124Z
LAST-MODIFIED:20190820T150201Z
UID:7999-1569888000-1570319999@greatermindenchamber.com
SUMMARY:2019 Webster Parish Fair
DESCRIPTION:October 1-5\, 2019\, enjoy the Annual Webster Parish Fair at the Minden fairgrounds.  Come out and bring the kids! Enjoy the rides\, food\, carnival\, livestock shows and live entertainment.  For more information\, contact Donnie Irby at (318)377-6250 \nDaily Events\nTuesday\, October 1 \nGate Fee $1 Rides $1 (This day ONLY)\nFair Parade Downtown Minden 5:00pm\nFair Gates open 5:00pm\nLivestock Weigh-in 5:00pm\nPoultry and Rabbit Show 6:00pm\nLive Entertainment 6:00 pm \nWednesday\, October 2\nGate Fee $2 rest of week\nSpecial Kids Day 9am-12:00pm\nFair Gates Open (armband night) 5:00pm\n4-H Swine Showmanship 6:00pm\nLive Entertainment 7:00pm \nThursday\, October 3\nSenior Citizens Day 9am-1:30pm (Armory Building)\nFair Gates Open(armband night) 5:00pm\nDress your pet costume contest 5:00pm (4-H Barn)\n4-H Pee Wee Pig Show 6:00pm\n4-H Leaders/Principals Pig Pusher 6:00pm (Livestock arena)\n4-H goat\, lamb\, beef\, dairy showmanship7:00pm\nLive Entertainment 7:00pm\nDorcheat Bottom Band \nFriday\, October 4\nBuyers’ luncheon 11:30am\nLivestock Auction (Armory Building) 1:00pm\nFair Gates Open 5:00pm\nLive Entertainment 7:00pm \nSaturday\, October 5\nFair Gates Open 12:00pm\nLive Entertainment 1-5:00pm\nChar-Ray: Karaoke\nKids Day (5 rides for $5) 1-5:00pm\nPizza Eating Contest 2:00pm\nSponsored by Johnny’s Pizza\nLive Entertainment 7:00pm\nStormy Weather Band
URL:https://greatermindenchamber.com/event/7999/
LOCATION:Minden Fairgrounds\, 800 Goodwill St\, Minden\, LA\, 71055\, United States
CATEGORIES:Community Events
ATTACH;FMTTYPE=image/jpeg:https://greatermindenchamber.com/wp-content/uploads/2019/07/DSC_0292-scaled.jpg
END:VEVENT
BEGIN:VEVENT
DTSTART;TZID=America/Chicago:20191005T083000
DTEND;TZID=America/Chicago:20191005T130000
DTSTAMP:20260420T055802
CREATED:20190806T165431Z
LAST-MODIFIED:20190806T165431Z
UID:7938-1570264200-1570280400@greatermindenchamber.com
SUMMARY:Falling at the Feet of Jesus
DESCRIPTION:Join us for a day of fun\, fellowship\, worship\, prayer and praise with Kathy Nelson from Speak It Ministries.\nCost $20 (includes lunch) \nChildcare provided\nScholarships are available\nDoor prizes \nDeadline for registration is September 8\, 2019 \nTo register for the event please contact North Acres Baptist Church as: \noffice@nabcminden.com or 318.377.4315 or Janice Nelson 318.393.1990
URL:https://greatermindenchamber.com/event/falling-at-the-feet-of-jesus/
LOCATION:North Acres Baptist Church\, 1852 Lewisville Rd\, Minden\, LA\, 71055\, United States
CATEGORIES:Community Events
ATTACH;FMTTYPE=image/jpeg:https://greatermindenchamber.com/wp-content/uploads/2019/08/north-acres-ladies-worship.jpg
ORGANIZER;CN="North Acres Baptist Church":MAILTO:office@nabcminden.com
END:VEVENT
BEGIN:VEVENT
DTSTART;TZID=America/Chicago:20191005T100000
DTEND;TZID=America/Chicago:20191005T160000
DTSTAMP:20260420T055802
CREATED:20191001T133551Z
LAST-MODIFIED:20191001T133551Z
UID:8172-1570269600-1570291200@greatermindenchamber.com
SUMMARY:Its Been A Sweet One Minden
DESCRIPTION:One year has flown by y’all! We are so honored to have been in business a year here in Minden and we would love to celebrate with y’all! We will be giving out discounts- Prizes to the first few people who make a purchase- We will have a candy bar set up for all to enjoy along with a bunch of other sweet treats to go along with our theme! Thank y’all for an amazing year and cheers to many more!
URL:https://greatermindenchamber.com/event/its-been-a-sweet-one-minden/
LOCATION:Frilly Magnolia Boutique Minden\, 406 Broadway\, Minden\, LA\, 71055\, United States
CATEGORIES:Community Events
ATTACH;FMTTYPE=image/jpeg:https://greatermindenchamber.com/wp-content/uploads/2019/10/frilly-turns-1.jpg
END:VEVENT
END:VCALENDAR