BEGIN:VCALENDAR
VERSION:2.0
PRODID:-//Greater Minden Chamber - ECPv6.15.20//NONSGML v1.0//EN
CALSCALE:GREGORIAN
METHOD:PUBLISH
X-WR-CALNAME:Greater Minden Chamber
X-ORIGINAL-URL:https://greatermindenchamber.com
X-WR-CALDESC:Events for Greater Minden Chamber
REFRESH-INTERVAL;VALUE=DURATION:PT1H
X-Robots-Tag:noindex
X-PUBLISHED-TTL:PT1H
BEGIN:VTIMEZONE
TZID:America/Chicago
BEGIN:DAYLIGHT
TZOFFSETFROM:-0600
TZOFFSETTO:-0500
TZNAME:CDT
DTSTART:20180311T080000
END:DAYLIGHT
BEGIN:STANDARD
TZOFFSETFROM:-0500
TZOFFSETTO:-0600
TZNAME:CST
DTSTART:20181104T070000
END:STANDARD
BEGIN:DAYLIGHT
TZOFFSETFROM:-0600
TZOFFSETTO:-0500
TZNAME:CDT
DTSTART:20190310T080000
END:DAYLIGHT
BEGIN:STANDARD
TZOFFSETFROM:-0500
TZOFFSETTO:-0600
TZNAME:CST
DTSTART:20191103T070000
END:STANDARD
BEGIN:DAYLIGHT
TZOFFSETFROM:-0600
TZOFFSETTO:-0500
TZNAME:CDT
DTSTART:20200308T080000
END:DAYLIGHT
BEGIN:STANDARD
TZOFFSETFROM:-0500
TZOFFSETTO:-0600
TZNAME:CST
DTSTART:20201101T070000
END:STANDARD
END:VTIMEZONE
BEGIN:VEVENT
DTSTART;VALUE=DATE:20191115
DTEND;VALUE=DATE:20191116
DTSTAMP:20260420T043145
CREATED:20190802T153121Z
LAST-MODIFIED:20191106T220224Z
UID:7918-1573776000-1573862399@greatermindenchamber.com
SUMMARY:Small Business Saturday-Minden
DESCRIPTION:Welcome to the neighborhood. \nGet up\, get out\, get together and shop local in historical Minden\, LA. on Small Business Saturday. Join our local merchants for a day of fun celebrating our Small Businesses. \nShop Small Saturday is a great day to do a little Christmas shopping\, have lunch\, and enjoy the season. This event is held in conjunction with American Express Small Business Saturday and is a great way to show your support for small businesses. \nTo start the day off there will be a Kick-Off Brunch at Geaux Fresh starting at 9AM. \nThere will be open houses\,side walk sales\, in store specials along with drawings and giveaways. Shoppers will receive a Shop Small tote bag with purchase while supplies last. \nMakers Market on Pearl Street\nShop Small Scavenger Passport Hunt\nRaffle-details coming soon.
URL:https://greatermindenchamber.com/event/small-business-saturday-minden-2/
LOCATION:Minden\, LA\, LA\, 71055\, United States
CATEGORIES:Community Events
ATTACH;FMTTYPE=image/jpeg:https://greatermindenchamber.com/wp-content/uploads/2019/08/shop-small-saturday-2.jpg
ORGANIZER;CN="DBA-Minden":MAILTO:bhobbies1@gmail.com
END:VEVENT
END:VCALENDAR