BEGIN:VCALENDAR
VERSION:2.0
PRODID:-//Greater Minden Chamber - ECPv6.15.20//NONSGML v1.0//EN
CALSCALE:GREGORIAN
METHOD:PUBLISH
X-WR-CALNAME:Greater Minden Chamber
X-ORIGINAL-URL:https://greatermindenchamber.com
X-WR-CALDESC:Events for Greater Minden Chamber
REFRESH-INTERVAL;VALUE=DURATION:PT1H
X-Robots-Tag:noindex
X-PUBLISHED-TTL:PT1H
BEGIN:VTIMEZONE
TZID:America/Chicago
BEGIN:DAYLIGHT
TZOFFSETFROM:-0600
TZOFFSETTO:-0500
TZNAME:CDT
DTSTART:20180311T080000
END:DAYLIGHT
BEGIN:STANDARD
TZOFFSETFROM:-0500
TZOFFSETTO:-0600
TZNAME:CST
DTSTART:20181104T070000
END:STANDARD
BEGIN:DAYLIGHT
TZOFFSETFROM:-0600
TZOFFSETTO:-0500
TZNAME:CDT
DTSTART:20190310T080000
END:DAYLIGHT
BEGIN:STANDARD
TZOFFSETFROM:-0500
TZOFFSETTO:-0600
TZNAME:CST
DTSTART:20191103T070000
END:STANDARD
BEGIN:DAYLIGHT
TZOFFSETFROM:-0600
TZOFFSETTO:-0500
TZNAME:CDT
DTSTART:20200308T080000
END:DAYLIGHT
BEGIN:STANDARD
TZOFFSETFROM:-0500
TZOFFSETTO:-0600
TZNAME:CST
DTSTART:20201101T070000
END:STANDARD
END:VTIMEZONE
BEGIN:VEVENT
DTSTART;TZID=America/Chicago:20191130T080000
DTEND;TZID=America/Chicago:20191130T140000
DTSTAMP:20260420T053343
CREATED:20190925T152511Z
LAST-MODIFIED:20190925T152511Z
UID:8139-1575100800-1575122400@greatermindenchamber.com
SUMMARY:Santa Claus is coming to Ramsey's
DESCRIPTION:Nicole Davidge will be at Ramsey’s taking pictures with the BEST Santa again this year! Cost will be $50\, check or cash only please. It will be come and go so you don’t have to make an appointment time. 🎅🏼🎅🏼🎅🏼
URL:https://greatermindenchamber.com/event/santa-claus-is-coming-to-ramseys/
LOCATION:Ramsey’s Southern Outfitters\, LLC\, 457 Highway 531\, Minden\, LA\, 71055\, United States
CATEGORIES:Community Events
ATTACH;FMTTYPE=image/jpeg:https://greatermindenchamber.com/wp-content/uploads/2019/09/santa.jpg
END:VEVENT
BEGIN:VEVENT
DTSTART;TZID=America/Chicago:20191130T090000
DTEND;TZID=America/Chicago:20191130T130000
DTSTAMP:20260420T053343
CREATED:20191120T200622Z
LAST-MODIFIED:20191120T200622Z
UID:8347-1575104400-1575118800@greatermindenchamber.com
SUMMARY:Brunch at Geaux Fresh
DESCRIPTION:We are so excited for our 3rd annual Shop Small Brunch! We love this event so much and we are ready to bring you some new fun menu items!!!
URL:https://greatermindenchamber.com/event/brunch-at-geaux-fresh/
LOCATION:Geaux Fresh\, 801 Broadway St.\, Minden\, 71055\, United States
CATEGORIES:Community Events
ATTACH;FMTTYPE=image/png:https://greatermindenchamber.com/wp-content/uploads/2019/11/Geaux-Fresh-Brunch.png
END:VEVENT
BEGIN:VEVENT
DTSTART;TZID=America/Chicago:20191130T160000
DTEND;TZID=America/Chicago:20191130T190000
DTSTAMP:20260420T053343
CREATED:20191002T132251Z
LAST-MODIFIED:20191002T132251Z
UID:8182-1575129600-1575140400@greatermindenchamber.com
SUMMARY:Candlelight Christmas Tour of Ivy Vale Plantation
DESCRIPTION:Enchanting Candlelight Christmas Tour of Ivy Vale Plantation\, circa 1816\, 1850 will detail the evolution of frontier life and antebellum plantation life in North Louisiana. Bring your cameras to capture the beauty of this historic home. \nTour dates include November 30th\, December 7th\, 14th\, 21st\, and 28th \nThe length of the tour will be between 45 minutes to 1 hour. \nAdmission is $10 for adults\, children under 12 years of age get in free. \nFor booking please reach out to Ivy Vale Plantation at (225) 287-8085.
URL:https://greatermindenchamber.com/event/candlelight-christmas-tour-of-ivy-vale-plantation/
LOCATION:Ivy Vale Plantation\, 2529 Hwy 531\, Minden\, LA\, 71055\, United States
ATTACH;FMTTYPE=image/jpeg:https://greatermindenchamber.com/wp-content/uploads/2019/10/Ivy-Vale-Christmas-4.jpg
END:VEVENT
END:VCALENDAR