BEGIN:VCALENDAR
VERSION:2.0
PRODID:-//Greater Minden Chamber - ECPv6.15.20//NONSGML v1.0//EN
CALSCALE:GREGORIAN
METHOD:PUBLISH
X-WR-CALNAME:Greater Minden Chamber
X-ORIGINAL-URL:https://greatermindenchamber.com
X-WR-CALDESC:Events for Greater Minden Chamber
REFRESH-INTERVAL;VALUE=DURATION:PT1H
X-Robots-Tag:noindex
X-PUBLISHED-TTL:PT1H
BEGIN:VTIMEZONE
TZID:America/Chicago
BEGIN:DAYLIGHT
TZOFFSETFROM:-0600
TZOFFSETTO:-0500
TZNAME:CDT
DTSTART:20180311T080000
END:DAYLIGHT
BEGIN:STANDARD
TZOFFSETFROM:-0500
TZOFFSETTO:-0600
TZNAME:CST
DTSTART:20181104T070000
END:STANDARD
BEGIN:DAYLIGHT
TZOFFSETFROM:-0600
TZOFFSETTO:-0500
TZNAME:CDT
DTSTART:20190310T080000
END:DAYLIGHT
BEGIN:STANDARD
TZOFFSETFROM:-0500
TZOFFSETTO:-0600
TZNAME:CST
DTSTART:20191103T070000
END:STANDARD
BEGIN:DAYLIGHT
TZOFFSETFROM:-0600
TZOFFSETTO:-0500
TZNAME:CDT
DTSTART:20200308T080000
END:DAYLIGHT
BEGIN:STANDARD
TZOFFSETFROM:-0500
TZOFFSETTO:-0600
TZNAME:CST
DTSTART:20201101T070000
END:STANDARD
END:VTIMEZONE
BEGIN:VEVENT
DTSTART;TZID=America/Chicago:20191209T173000
DTEND;TZID=America/Chicago:20191209T173000
DTSTAMP:20260420T100834
CREATED:20190918T211931Z
LAST-MODIFIED:20190918T211931Z
UID:8123-1575912600-1575912600@greatermindenchamber.com
SUMMARY:Community First High School Night Classes
DESCRIPTION:Have a full-time day job\, but still need your high school diploma?\nEnroll in our FREE night classes at Community First High School!\nHow?\nCome to Community First High School TONIGHT\,\nSeptember 9\, 2019\, 5:30 PM-8:30 PM\n202 Miller St.\nMinden\, LA 70155 \nLearn how to earn your HiSet diploma by attending our night class\nMeet the Director(s) and teacher(s)\nEnjoy a welcoming atmosphere of support!
URL:https://greatermindenchamber.com/event/community-first-high-school-night-classes-2019-12-09/
LOCATION:Community First High School\, 202 Miller St\, Minden\, LA\, 71055\, United States
ATTACH;FMTTYPE=image/jpeg:https://greatermindenchamber.com/wp-content/uploads/2019/08/Community-First-High-School-scaled.jpg
END:VEVENT
BEGIN:VEVENT
DTSTART;TZID=America/Chicago:20191209T180000
DTEND;TZID=America/Chicago:20191209T190000
DTSTAMP:20260420T100834
CREATED:20191115T144020Z
LAST-MODIFIED:20191115T144020Z
UID:8319-1575914400-1575918000@greatermindenchamber.com
SUMMARY:Gingerbread House Decorating
DESCRIPTION:It’s that time of the year again! Join us on Monday\, December 9th from 6-7 as we decorate gingerbread houses. This make and take event is going on the third year and we’ve added extra dates to handle overflow. Once this date (December 9th) is filled\, we will add a second. Once the second date is filled\, we will add the third and final one of the year. Limited seating is expected to fill quickly\, so do NOT wait to reserve your spot. Space is extremely limited to 25 spots per event only.\nWe will provide all supplies needed to create one gingerbread house per person registered.\nWear clothes that you don’t mind getting messy because icing and candy are involved.\nWe can’t wait to see what you create with us!
URL:https://greatermindenchamber.com/event/gingerbread-house-decorating/
LOCATION:Webster Parish Library\, 521 East & West Street\, Minden\, LA\, 71055\, United States
CATEGORIES:Community Events
ATTACH;FMTTYPE=image/jpeg:https://greatermindenchamber.com/wp-content/uploads/2019/11/gingerbread-house.jpg
END:VEVENT
BEGIN:VEVENT
DTSTART;TZID=America/Chicago:20191209T180000
DTEND;TZID=America/Chicago:20191209T190000
DTSTAMP:20260420T100834
CREATED:20191115T145423Z
LAST-MODIFIED:20191115T145423Z
UID:8335-1575914400-1575918000@greatermindenchamber.com
SUMMARY:Christmas Movie Drive-In
DESCRIPTION:Join us as we come together to watch movie “The Nativity Story\,” Drive-In Movie style! It’s going to be fun for the entire family–you’re definitely not going to want to miss it! So grab the family\, grab some friends\, pile into the car and come out and spend the evening at the movies with the faith fam!
URL:https://greatermindenchamber.com/event/christmas-movie-drive-in/
LOCATION:Living Word Minden\, 440 Highway 531\, Minden\, LA\, 71055\, United States
CATEGORIES:Community Events
ATTACH;FMTTYPE=image/jpeg:https://greatermindenchamber.com/wp-content/uploads/2019/11/drive-in-movie.jpg
END:VEVENT
END:VCALENDAR