BEGIN:VCALENDAR
VERSION:2.0
PRODID:-//Greater Minden Chamber - ECPv6.15.20//NONSGML v1.0//EN
CALSCALE:GREGORIAN
METHOD:PUBLISH
X-WR-CALNAME:Greater Minden Chamber
X-ORIGINAL-URL:https://greatermindenchamber.com
X-WR-CALDESC:Events for Greater Minden Chamber
REFRESH-INTERVAL;VALUE=DURATION:PT1H
X-Robots-Tag:noindex
X-PUBLISHED-TTL:PT1H
BEGIN:VTIMEZONE
TZID:America/Chicago
BEGIN:DAYLIGHT
TZOFFSETFROM:-0600
TZOFFSETTO:-0500
TZNAME:CDT
DTSTART:20230312T080000
END:DAYLIGHT
BEGIN:STANDARD
TZOFFSETFROM:-0500
TZOFFSETTO:-0600
TZNAME:CST
DTSTART:20231105T070000
END:STANDARD
BEGIN:DAYLIGHT
TZOFFSETFROM:-0600
TZOFFSETTO:-0500
TZNAME:CDT
DTSTART:20240310T080000
END:DAYLIGHT
BEGIN:STANDARD
TZOFFSETFROM:-0500
TZOFFSETTO:-0600
TZNAME:CST
DTSTART:20241103T070000
END:STANDARD
BEGIN:DAYLIGHT
TZOFFSETFROM:-0600
TZOFFSETTO:-0500
TZNAME:CDT
DTSTART:20250309T080000
END:DAYLIGHT
BEGIN:STANDARD
TZOFFSETFROM:-0500
TZOFFSETTO:-0600
TZNAME:CST
DTSTART:20251102T070000
END:STANDARD
END:VTIMEZONE
BEGIN:VEVENT
DTSTART;TZID=America/Chicago:20241001T170000
DTEND;TZID=America/Chicago:20241001T180000
DTSTAMP:20260420T100824
CREATED:20240926T153152Z
LAST-MODIFIED:20240926T153538Z
UID:14926-1727802000-1727805600@greatermindenchamber.com
SUMMARY:Webster Parish Fair Parade
DESCRIPTION:Webster Parish Fair Parade in Downtown Minden starting at 5pm. \n  \nJoin us after the parade for the Poultry and Rabbit show starting at 6pm at the Fairgrounds. \n(No Rides until Wednesday) \n  \nFor more information about the parade\, contact Alvin Maynor at 318-268-0954
URL:https://greatermindenchamber.com/event/webster-parish-fair-parade/
LOCATION:Downtown Minden\, LA\, Main Street\, Minden\, LA\, 71055\, United States
CATEGORIES:Community Events
ATTACH;FMTTYPE=image/jpeg:https://greatermindenchamber.com/wp-content/uploads/2024/09/WEBSTER-PARISH-FAIR-2024-1.jpg
END:VEVENT
END:VCALENDAR