BEGIN:VCALENDAR
VERSION:2.0
PRODID:-//Greater Minden Chamber - ECPv6.15.20//NONSGML v1.0//EN
CALSCALE:GREGORIAN
METHOD:PUBLISH
X-WR-CALNAME:Greater Minden Chamber
X-ORIGINAL-URL:https://greatermindenchamber.com
X-WR-CALDESC:Events for Greater Minden Chamber
REFRESH-INTERVAL;VALUE=DURATION:PT1H
X-Robots-Tag:noindex
X-PUBLISHED-TTL:PT1H
BEGIN:VTIMEZONE
TZID:America/Chicago
BEGIN:DAYLIGHT
TZOFFSETFROM:-0600
TZOFFSETTO:-0500
TZNAME:CDT
DTSTART:20230312T080000
END:DAYLIGHT
BEGIN:STANDARD
TZOFFSETFROM:-0500
TZOFFSETTO:-0600
TZNAME:CST
DTSTART:20231105T070000
END:STANDARD
BEGIN:DAYLIGHT
TZOFFSETFROM:-0600
TZOFFSETTO:-0500
TZNAME:CDT
DTSTART:20240310T080000
END:DAYLIGHT
BEGIN:STANDARD
TZOFFSETFROM:-0500
TZOFFSETTO:-0600
TZNAME:CST
DTSTART:20241103T070000
END:STANDARD
BEGIN:DAYLIGHT
TZOFFSETFROM:-0600
TZOFFSETTO:-0500
TZNAME:CDT
DTSTART:20250309T080000
END:DAYLIGHT
BEGIN:STANDARD
TZOFFSETFROM:-0500
TZOFFSETTO:-0600
TZNAME:CST
DTSTART:20251102T070000
END:STANDARD
END:VTIMEZONE
BEGIN:VEVENT
DTSTART;TZID=America/Chicago:20241004T180000
DTEND;TZID=America/Chicago:20241004T210000
DTSTAMP:20260421T054310
CREATED:20240926T182526Z
LAST-MODIFIED:20240926T182526Z
UID:14941-1728064800-1728075600@greatermindenchamber.com
SUMMARY:Webster Parish Fair
DESCRIPTION:11:30 a.m. – Buyers’ Luncheon \n1 p.m. – Livestock Auction (4-H Show Barn) \n6 p.m. – Rides Start \n  \nGate Entrance: $2.00
URL:https://greatermindenchamber.com/event/webster-parish-fair-4/
LOCATION:Minden Fairgrounds\, 800 Goodwill St\, Minden\, LA\, 71055\, United States
CATEGORIES:Community Events
ATTACH;FMTTYPE=image/jpeg:https://greatermindenchamber.com/wp-content/uploads/2024/09/WEBSTER-PARISH-FAIR-2024-1.jpg
END:VEVENT
END:VCALENDAR