BEGIN:VCALENDAR
VERSION:2.0
PRODID:-//Greater Minden Chamber - ECPv6.15.20//NONSGML v1.0//EN
CALSCALE:GREGORIAN
METHOD:PUBLISH
X-ORIGINAL-URL:https://greatermindenchamber.com
X-WR-CALDESC:Events for Greater Minden Chamber
REFRESH-INTERVAL;VALUE=DURATION:PT1H
X-Robots-Tag:noindex
X-PUBLISHED-TTL:PT1H
BEGIN:VTIMEZONE
TZID:America/Chicago
BEGIN:DAYLIGHT
TZOFFSETFROM:-0600
TZOFFSETTO:-0500
TZNAME:CDT
DTSTART:20250309T080000
END:DAYLIGHT
BEGIN:STANDARD
TZOFFSETFROM:-0500
TZOFFSETTO:-0600
TZNAME:CST
DTSTART:20251102T070000
END:STANDARD
BEGIN:DAYLIGHT
TZOFFSETFROM:-0600
TZOFFSETTO:-0500
TZNAME:CDT
DTSTART:20260308T080000
END:DAYLIGHT
BEGIN:STANDARD
TZOFFSETFROM:-0500
TZOFFSETTO:-0600
TZNAME:CST
DTSTART:20261101T070000
END:STANDARD
BEGIN:DAYLIGHT
TZOFFSETFROM:-0600
TZOFFSETTO:-0500
TZNAME:CDT
DTSTART:20270314T080000
END:DAYLIGHT
BEGIN:STANDARD
TZOFFSETFROM:-0500
TZOFFSETTO:-0600
TZNAME:CST
DTSTART:20271107T070000
END:STANDARD
END:VTIMEZONE
BEGIN:VEVENT
DTSTART;VALUE=DATE:20260205
DTEND;VALUE=DATE:20260209
DTSTAMP:20260425T074107
CREATED:20260106T183208Z
LAST-MODIFIED:20260106T183208Z
UID:22757-1770249600-1770595199@greatermindenchamber.com
SUMMARY:Minden St. Jude Auction
DESCRIPTION:The 2026 Minden St. Jude Auction will be February 5-8\, 2026. \nShow your Olympic Spirit by donating in the link below. Let the games and the giving begin! https://mindenstjude.com/product/make-a-donation/
URL:https://greatermindenchamber.com/event/minden-st-jude-auction-5/
LOCATION:Minden Civic Center\, 520 Broadway\, Minden\, 71055\, United States
ATTACH;FMTTYPE=image/jpeg:https://greatermindenchamber.com/wp-content/uploads/2026/01/Minden-St.-Jude-2026.jpg
END:VEVENT
BEGIN:VEVENT
DTSTART;VALUE=DATE:20260205
DTEND;VALUE=DATE:20260208
DTSTAMP:20260425T074107
CREATED:20260113T182425Z
LAST-MODIFIED:20260113T182425Z
UID:22928-1770249600-1770508799@greatermindenchamber.com
SUMMARY:Swing for a Cure
DESCRIPTION:Minden Foundation is proud to support the 2nd annual Swing for a Cure in support of the Minden St. Jude Auction click the link below to secure your spot! \nhttps://mindenfoundation.org/…/swing-for-a-cure…/
URL:https://greatermindenchamber.com/event/swing-for-a-cure/
LOCATION:Minden Presbyterian Church\, 1001 Broadway Street\, Minden\, LA\, 71055\, United States
ATTACH;FMTTYPE=image/jpeg:https://greatermindenchamber.com/wp-content/uploads/2026/01/Minden-Foundation-St-Jude-Golf.jpg
ORGANIZER;CN="The Minden Foundation":MAILTO:mccstb@gmail.com
END:VEVENT
BEGIN:VEVENT
DTSTART;TZID=America/Chicago:20260205T110000
DTEND;TZID=America/Chicago:20260205T130000
DTSTAMP:20260425T074107
CREATED:20260203T145908Z
LAST-MODIFIED:20260203T145908Z
UID:23061-1770289200-1770296400@greatermindenchamber.com
SUMMARY:The Creative Collective: A Meet & Greet with Makers Who Make It Happen
DESCRIPTION:The Creative Collective: A Meet & Greet with Makers Who Make It Happen\n\nJoin us for a special\, in-person gathering at Purvéy Minden as we welcome three inspiring creatives for a relaxed and meaningful meet & greet.\n\nSpend the afternoon connecting with Danielle Stringer (@imperfectdust)\, Brooke Riley (@re_fabbed)\, and Sara McDaniel (@simplysoutherncottage)—three women who are turning creativity\, passion\, and perseverance into thriving brands and beautiful lives.\nThis event is all about community\, encouragement\, and connection. Come say hello\, hear their stories\, ask questions\, snap photos\, and enjoy the cozy charm of Purvéy while mingling with fellow creatives\, makers\, and dreamers.\n\n What to Expect• Casual meet & greet• Creative conversation and encouragement• Photo opportunities• Shopping at Purvéy Minden• A welcoming\, inspiring atmosphere\n\n Thursday\, February 5\, 2026 11:00 AM – 1:00 PM Purvéy Minden726 Broadway\, Minden\, Louisiana\n\n This is a FREE eventNo tickets required—just come as you are.\n\nWhether you’re a creator\, small business owner\, or simply love beautiful things and good conversation\, we would love to see you there.\n\n Come for the inspiration. Stay for the connection. 
URL:https://greatermindenchamber.com/event/the-creative-collective-a-meet-greet-with-makers-who-make-it-happen/
LOCATION:Purvéy Minden\, 726 Broadway Street\, Minden\, LA\, 71055\, United States
ATTACH;FMTTYPE=image/jpeg:https://greatermindenchamber.com/wp-content/uploads/2026/02/The-Creative-Collective-Purvey.jpg
END:VEVENT
END:VCALENDAR