BEGIN:VCALENDAR
VERSION:2.0
PRODID:-//Greater Minden Chamber - ECPv6.15.20//NONSGML v1.0//EN
CALSCALE:GREGORIAN
METHOD:PUBLISH
X-WR-CALNAME:Greater Minden Chamber
X-ORIGINAL-URL:https://greatermindenchamber.com
X-WR-CALDESC:Events for Greater Minden Chamber
REFRESH-INTERVAL;VALUE=DURATION:PT1H
X-Robots-Tag:noindex
X-PUBLISHED-TTL:PT1H
BEGIN:VTIMEZONE
TZID:America/Chicago
BEGIN:DAYLIGHT
TZOFFSETFROM:-0600
TZOFFSETTO:-0500
TZNAME:CDT
DTSTART:20250309T080000
END:DAYLIGHT
BEGIN:STANDARD
TZOFFSETFROM:-0500
TZOFFSETTO:-0600
TZNAME:CST
DTSTART:20251102T070000
END:STANDARD
BEGIN:DAYLIGHT
TZOFFSETFROM:-0600
TZOFFSETTO:-0500
TZNAME:CDT
DTSTART:20260308T080000
END:DAYLIGHT
BEGIN:STANDARD
TZOFFSETFROM:-0500
TZOFFSETTO:-0600
TZNAME:CST
DTSTART:20261101T070000
END:STANDARD
BEGIN:DAYLIGHT
TZOFFSETFROM:-0600
TZOFFSETTO:-0500
TZNAME:CDT
DTSTART:20270314T080000
END:DAYLIGHT
BEGIN:STANDARD
TZOFFSETFROM:-0500
TZOFFSETTO:-0600
TZNAME:CST
DTSTART:20271107T070000
END:STANDARD
END:VTIMEZONE
BEGIN:VEVENT
DTSTART;VALUE=DATE:20260205
DTEND;VALUE=DATE:20260209
DTSTAMP:20260421T082855
CREATED:20260106T183208Z
LAST-MODIFIED:20260106T183208Z
UID:22757-1770249600-1770595199@greatermindenchamber.com
SUMMARY:Minden St. Jude Auction
DESCRIPTION:The 2026 Minden St. Jude Auction will be February 5-8\, 2026. \nShow your Olympic Spirit by donating in the link below. Let the games and the giving begin! https://mindenstjude.com/product/make-a-donation/
URL:https://greatermindenchamber.com/event/minden-st-jude-auction-5/
LOCATION:Minden Civic Center\, 520 Broadway\, Minden\, 71055\, United States
ATTACH;FMTTYPE=image/jpeg:https://greatermindenchamber.com/wp-content/uploads/2026/01/Minden-St.-Jude-2026.jpg
END:VEVENT
BEGIN:VEVENT
DTSTART;VALUE=DATE:20260205
DTEND;VALUE=DATE:20260208
DTSTAMP:20260421T082855
CREATED:20260113T182425Z
LAST-MODIFIED:20260113T182425Z
UID:22928-1770249600-1770508799@greatermindenchamber.com
SUMMARY:Swing for a Cure
DESCRIPTION:Minden Foundation is proud to support the 2nd annual Swing for a Cure in support of the Minden St. Jude Auction click the link below to secure your spot! \nhttps://mindenfoundation.org/…/swing-for-a-cure…/
URL:https://greatermindenchamber.com/event/swing-for-a-cure/
LOCATION:Minden Presbyterian Church\, 1001 Broadway Street\, Minden\, LA\, 71055\, United States
ATTACH;FMTTYPE=image/jpeg:https://greatermindenchamber.com/wp-content/uploads/2026/01/Minden-Foundation-St-Jude-Golf.jpg
ORGANIZER;CN="The Minden Foundation":MAILTO:mccstb@gmail.com
END:VEVENT
BEGIN:VEVENT
DTSTART;TZID=America/Chicago:20260206T070000
DTEND;TZID=America/Chicago:20260206T090000
DTSTAMP:20260421T082855
CREATED:20260203T150302Z
LAST-MODIFIED:20260203T150302Z
UID:23064-1770361200-1770368400@greatermindenchamber.com
SUMMARY:MMC Annual Minden St. Jude Pancake Breakfast
DESCRIPTION:Join us for the Annual Minden St. Jude Pancake Breakfast at Minden Medical Center! Come enjoy a great breakfast for a great cause! \n📍 Minden Medical Center \n🗓️ Friday\, February 6th \n⌚7AM – 9AM \n💸 $7.00 per plate
URL:https://greatermindenchamber.com/event/mmc-annual-minden-st-jude-pancake-breakfast/
LOCATION:Minden Medical Center\, #1 Medical Plaza\, Minden\, LA\, 71055\, United States
ATTACH;FMTTYPE=image/jpeg:https://greatermindenchamber.com/wp-content/uploads/2026/02/MMC-Pancake-Breakfast.jpg
END:VEVENT
BEGIN:VEVENT
DTSTART;TZID=America/Chicago:20260206T100000
DTEND;TZID=America/Chicago:20260206T160000
DTSTAMP:20260421T082855
CREATED:20260203T150629Z
LAST-MODIFIED:20260203T150629Z
UID:23067-1770372000-1770393600@greatermindenchamber.com
SUMMARY:Women’s Health Community Event
DESCRIPTION:The Women’s Clinic invites the community to a Women’s Health Community Event focused on education\, access\, and empowerment. This free event will take place on Friday\, February 6\, 2026\, from 10:00 AM to 4:00 PM at the Minden Civic Center in Minden\, Louisiana. Attendees can visit with local healthcare providers and learn more about important women’s health topics including contraceptive care\, cervical cancer\, hormone replacement\, newborn care\, genetic testing\, and breastfeeding benefits. A mobile health unit will be onsite\, and visitors can be entered into a drawing for a self-care bundle valued at $300. The event supports women of all ages\, expectant parents\, and families and coincides with the 2026 Minden St. Jude Auction.
URL:https://greatermindenchamber.com/event/womens-health-community-event/
LOCATION:Minden Civic Center\, 520 Broadway\, Minden\, 71055\, United States
ATTACH;FMTTYPE=image/jpeg:https://greatermindenchamber.com/wp-content/uploads/2026/02/Womens-Health-Event.jpg
END:VEVENT
BEGIN:VEVENT
DTSTART;TZID=America/Chicago:20260206T183000
DTEND;TZID=America/Chicago:20260206T203000
DTSTAMP:20260421T082855
CREATED:20260113T182141Z
LAST-MODIFIED:20260113T182141Z
UID:22924-1770402600-1770409800@greatermindenchamber.com
SUMMARY:Krewe des Ambassadeurs Military Bal' XXIV
DESCRIPTION:The Royal Court of Krewe des Ambassadeurs XXIV cordially invite you to our Grand Bal\, Military Bal’ XXIV.Date: Friday February 6th\, 2026Place : Live Casino & Hotel Bossier CityTime : Doors Open 6:30\, Tableau 8:00
URL:https://greatermindenchamber.com/event/krewe-des-ambassadeurs-military-bal-xxiv/
LOCATION:Live! Casino & Hotel Bossier\, 711 Live Casino BLVD\, Bossier City\, LA\, 71111\, United States
ATTACH;FMTTYPE=image/jpeg:https://greatermindenchamber.com/wp-content/uploads/2026/01/Krewe-Bal.jpg
END:VEVENT
END:VCALENDAR