BEGIN:VCALENDAR
VERSION:2.0
PRODID:-//Greater Minden Chamber - ECPv6.15.20//NONSGML v1.0//EN
CALSCALE:GREGORIAN
METHOD:PUBLISH
X-WR-CALNAME:Greater Minden Chamber
X-ORIGINAL-URL:https://greatermindenchamber.com
X-WR-CALDESC:Events for Greater Minden Chamber
REFRESH-INTERVAL;VALUE=DURATION:PT1H
X-Robots-Tag:noindex
X-PUBLISHED-TTL:PT1H
BEGIN:VTIMEZONE
TZID:America/Chicago
BEGIN:DAYLIGHT
TZOFFSETFROM:-0600
TZOFFSETTO:-0500
TZNAME:CDT
DTSTART:20250309T080000
END:DAYLIGHT
BEGIN:STANDARD
TZOFFSETFROM:-0500
TZOFFSETTO:-0600
TZNAME:CST
DTSTART:20251102T070000
END:STANDARD
BEGIN:DAYLIGHT
TZOFFSETFROM:-0600
TZOFFSETTO:-0500
TZNAME:CDT
DTSTART:20260308T080000
END:DAYLIGHT
BEGIN:STANDARD
TZOFFSETFROM:-0500
TZOFFSETTO:-0600
TZNAME:CST
DTSTART:20261101T070000
END:STANDARD
BEGIN:DAYLIGHT
TZOFFSETFROM:-0600
TZOFFSETTO:-0500
TZNAME:CDT
DTSTART:20270314T080000
END:DAYLIGHT
BEGIN:STANDARD
TZOFFSETFROM:-0500
TZOFFSETTO:-0600
TZNAME:CST
DTSTART:20271107T070000
END:STANDARD
END:VTIMEZONE
BEGIN:VEVENT
DTSTART;TZID=America/Chicago:20260228T083000
DTEND;TZID=America/Chicago:20260228T120000
DTSTAMP:20260421T070421
CREATED:20260113T182709Z
LAST-MODIFIED:20260113T182709Z
UID:22931-1772267400-1772280000@greatermindenchamber.com
SUMMARY:Piney Hills Louisiana Master Gardeners | Buds & Blooms 2026
DESCRIPTION:Lecture series on popular gardening topics: “Wildflowers\,” “Lasagna Gardening” and “Fertilizers & Pesticides.” There will be potted bulbs for sale\, lots of great food\, door prizes and a raffle. All proceeds will be used for 4-H youth gardening projects and scholarships.
URL:https://greatermindenchamber.com/event/piney-hills-louisiana-master-gardeners-buds-blooms-2026/
LOCATION:First United Methodist Church\, 903 Broadway Street\, Minden\, LA\, 71055\, United States
ATTACH;FMTTYPE=image/jpeg:https://greatermindenchamber.com/wp-content/uploads/2026/01/Buds-and-Blooms-2026.jpg
END:VEVENT
BEGIN:VEVENT
DTSTART;TZID=America/Chicago:20260228T100000
DTEND;TZID=America/Chicago:20260228T140000
DTSTAMP:20260421T070421
CREATED:20260203T151501Z
LAST-MODIFIED:20260203T151501Z
UID:23077-1772272800-1772287200@greatermindenchamber.com
SUMMARY:Shop the Block – A Celebration in Downtown Minden!
DESCRIPTION:Shop the Block – A Celebration in Downtown Minden!\n\nMark your calendars for Saturday\, February 28th\, for a full day of shopping\, dining\, and community fun!\n\nShop the Block is from 10 AM to 2 PM and is all about supporting our local businesses in the District. Explore unique finds\, enjoy delicious food from local restaurants\, and groove to tunes from DJ Milford Parker.\n\nCome spend the day shopping local\, supporting small businesses\, and being part of the continued success of Minden’s thriving downtown community!
URL:https://greatermindenchamber.com/event/shop-the-block-a-celebration-in-downtown-minden-2/
LOCATION:Down Town Minden Main St.\, United States
ATTACH;FMTTYPE=image/jpeg:https://greatermindenchamber.com/wp-content/uploads/2026/02/Shop-the-block-feb.jpg
END:VEVENT
END:VCALENDAR