BEGIN:VCALENDAR
VERSION:2.0
PRODID:-//Greater Minden Chamber - ECPv6.15.20//NONSGML v1.0//EN
CALSCALE:GREGORIAN
METHOD:PUBLISH
X-ORIGINAL-URL:https://greatermindenchamber.com
X-WR-CALDESC:Events for Greater Minden Chamber
REFRESH-INTERVAL;VALUE=DURATION:PT1H
X-Robots-Tag:noindex
X-PUBLISHED-TTL:PT1H
BEGIN:VTIMEZONE
TZID:America/Chicago
BEGIN:DAYLIGHT
TZOFFSETFROM:-0600
TZOFFSETTO:-0500
TZNAME:CDT
DTSTART:20250309T080000
END:DAYLIGHT
BEGIN:STANDARD
TZOFFSETFROM:-0500
TZOFFSETTO:-0600
TZNAME:CST
DTSTART:20251102T070000
END:STANDARD
BEGIN:DAYLIGHT
TZOFFSETFROM:-0600
TZOFFSETTO:-0500
TZNAME:CDT
DTSTART:20260308T080000
END:DAYLIGHT
BEGIN:STANDARD
TZOFFSETFROM:-0500
TZOFFSETTO:-0600
TZNAME:CST
DTSTART:20261101T070000
END:STANDARD
BEGIN:DAYLIGHT
TZOFFSETFROM:-0600
TZOFFSETTO:-0500
TZNAME:CDT
DTSTART:20270314T080000
END:DAYLIGHT
BEGIN:STANDARD
TZOFFSETFROM:-0500
TZOFFSETTO:-0600
TZNAME:CST
DTSTART:20271107T070000
END:STANDARD
END:VTIMEZONE
BEGIN:VEVENT
DTSTART;VALUE=DATE:20260418
DTEND;VALUE=DATE:20260427
DTSTAMP:20260420T103456
CREATED:20260408T152115Z
LAST-MODIFIED:20260408T152115Z
UID:31808-1776470400-1777247999@greatermindenchamber.com
SUMMARY:Love The Boot Week 2026
DESCRIPTION:We’re excited to partner with Keep Louisiana Beautiful and participate in #LoveTheBoot Week!\n\nThe City of Minden\, Greater Minden Chamber\, Visit Webster Parish\, & Minden Main Street District will be hosting a community litter cleanup and beautification effort across Minden\, Louisiana from April 18–26\, 2026.\n\nWe encourage businesses\, schools\, nonprofits\, churches\, civic groups\, and neighborhoods to form a team and join us in helping keep Minden clean and beautiful.\n\nOnly together can we keep Louisiana beautiful! This year\, we are cleaning up in honor of America’s 250th birthday\, and we invite our community to show their love for our country and for Minden by helping make a difference.\n\nGrab a friend\, bring the family\, and come lend a hand as we work together to keep our hometown clean and welcoming. Register your own cleanup project or volunteer for a designated effort.\n\nSign up here:https://app.seemylegacy.com/community/2484/campaign/8476\n\nLet’s show everyone how much Minden loves the Boot!
URL:https://greatermindenchamber.com/event/love-the-boot-week-2026/
LOCATION:Minden Louisiana\, Minden\, LA\, 71055\, United States
ATTACH;FMTTYPE=image/jpeg:https://greatermindenchamber.com/wp-content/uploads/2026/04/2026-Love-the-Boot-Week.jpg
ORGANIZER;CN="Greater Minden Chamber":MAILTO:info@greatermindenchamber.com
END:VEVENT
END:VCALENDAR