BEGIN:VCALENDAR
VERSION:2.0
PRODID:-//Greater Minden Chamber - ECPv6.15.20//NONSGML v1.0//EN
CALSCALE:GREGORIAN
METHOD:PUBLISH
X-ORIGINAL-URL:https://greatermindenchamber.com
X-WR-CALDESC:Events for Greater Minden Chamber
REFRESH-INTERVAL;VALUE=DURATION:PT1H
X-Robots-Tag:noindex
X-PUBLISHED-TTL:PT1H
BEGIN:VTIMEZONE
TZID:UTC
BEGIN:STANDARD
TZOFFSETFROM:+0000
TZOFFSETTO:+0000
TZNAME:UTC
DTSTART:20180101T000000
END:STANDARD
END:VTIMEZONE
BEGIN:VEVENT
DTSTART;TZID=UTC:20190511T100000
DTEND;TZID=UTC:20190511T110000
DTSTAMP:20260421T054057
CREATED:20190502T185535Z
LAST-MODIFIED:20190502T185535Z
UID:7426-1557568800-1557572400@greatermindenchamber.com
SUMMARY:Mother's Day Tea
DESCRIPTION:Grandmothers. Mothers. Aunts. Sisters. Daughters. Join us as we come together to celebrate the most important women in our lives
URL:https://greatermindenchamber.com/event/mothers-day-tea/
LOCATION:Living Word Minden\, 440 Highway 531\, Minden\, LA\, 71055\, United States
CATEGORIES:Community Events
ATTACH;FMTTYPE=image/jpeg:https://greatermindenchamber.com/wp-content/uploads/2019/05/mothers-day-tea.jpg
END:VEVENT
BEGIN:VEVENT
DTSTART;TZID=UTC:20190511T100000
DTEND;TZID=UTC:20190511T123000
DTSTAMP:20260421T054057
CREATED:20190417T195706Z
LAST-MODIFIED:20190417T195706Z
UID:7365-1557568800-1557577800@greatermindenchamber.com
SUMMARY:Mom & Me Painting
DESCRIPTION:Don’t have a cow about what to get Mom for Mother’s Day\, paint with her at the Library! Join us Saturday\, May 11th at 10 a.m. and at 12:30 p.m. in the Main Meeting Room. Sign up is required because space is limited! Call Jennifer Campbell at 371-3080 ex. 123 to reserve your spot.
URL:https://greatermindenchamber.com/event/mom-me-painting/
LOCATION:Webster Parish Library\, 521 East & West Street\, Minden\, LA\, 71055\, United States
CATEGORIES:Community Events
ATTACH;FMTTYPE=image/jpeg:https://greatermindenchamber.com/wp-content/uploads/2019/04/mom-n-me.jpg
END:VEVENT
END:VCALENDAR