BEGIN:VCALENDAR
VERSION:2.0
PRODID:-//Greater Minden Chamber - ECPv6.15.20//NONSGML v1.0//EN
CALSCALE:GREGORIAN
METHOD:PUBLISH
X-ORIGINAL-URL:https://greatermindenchamber.com
X-WR-CALDESC:Events for Greater Minden Chamber
REFRESH-INTERVAL;VALUE=DURATION:PT1H
X-Robots-Tag:noindex
X-PUBLISHED-TTL:PT1H
BEGIN:VTIMEZONE
TZID:America/Chicago
BEGIN:DAYLIGHT
TZOFFSETFROM:-0600
TZOFFSETTO:-0500
TZNAME:CDT
DTSTART:20250309T080000
END:DAYLIGHT
BEGIN:STANDARD
TZOFFSETFROM:-0500
TZOFFSETTO:-0600
TZNAME:CST
DTSTART:20251102T070000
END:STANDARD
BEGIN:DAYLIGHT
TZOFFSETFROM:-0600
TZOFFSETTO:-0500
TZNAME:CDT
DTSTART:20260308T080000
END:DAYLIGHT
BEGIN:STANDARD
TZOFFSETFROM:-0500
TZOFFSETTO:-0600
TZNAME:CST
DTSTART:20261101T070000
END:STANDARD
BEGIN:DAYLIGHT
TZOFFSETFROM:-0600
TZOFFSETTO:-0500
TZNAME:CDT
DTSTART:20270314T080000
END:DAYLIGHT
BEGIN:STANDARD
TZOFFSETFROM:-0500
TZOFFSETTO:-0600
TZNAME:CST
DTSTART:20271107T070000
END:STANDARD
END:VTIMEZONE
BEGIN:VEVENT
DTSTART;TZID=America/Chicago:20260418T113000
DTEND;TZID=America/Chicago:20260418T153000
DTSTAMP:20260424T101435
CREATED:20260407T152515Z
LAST-MODIFIED:20260407T152515Z
UID:31760-1776511800-1776526200@greatermindenchamber.com
SUMMARY:3on3 Basketball Tournament
DESCRIPTION:Join us on April 18th and claim the title of 3on3 champion! \nThis is a FREE community event and we will be giving away Basketball Goals & Basketballs!!! \nAge Groups: \n9-11 \n12-14 \n15-17 \n18-21 \n22-30 \n31-Over \nGrab your friends and sign up today! \nhttps://docs.google.com/…/1FAIpQLSdA5UAV5P…/viewform…
URL:https://greatermindenchamber.com/event/3on3-basketball-tournament/
LOCATION:Minden Recreation Center\, 1001 Recreation Dr\, Minen\, LA\, 71055\, United States
CATEGORIES:Community Events
ATTACH;FMTTYPE=image/jpeg:https://greatermindenchamber.com/wp-content/uploads/2026/04/LW-3-on-3.jpg
END:VEVENT
END:VCALENDAR