BEGIN:VCALENDAR
VERSION:2.0
PRODID:-//Greater Minden Chamber - ECPv6.15.20//NONSGML v1.0//EN
CALSCALE:GREGORIAN
METHOD:PUBLISH
X-WR-CALNAME:Greater Minden Chamber
X-ORIGINAL-URL:https://greatermindenchamber.com
X-WR-CALDESC:Events for Greater Minden Chamber
REFRESH-INTERVAL;VALUE=DURATION:PT1H
X-Robots-Tag:noindex
X-PUBLISHED-TTL:PT1H
BEGIN:VTIMEZONE
TZID:UTC
BEGIN:STANDARD
TZOFFSETFROM:+0000
TZOFFSETTO:+0000
TZNAME:UTC
DTSTART:20180101T000000
END:STANDARD
END:VTIMEZONE
BEGIN:VEVENT
DTSTART;TZID=UTC:20190611T180000
DTEND;TZID=UTC:20190611T200000
DTSTAMP:20260420T061413
CREATED:20190529T191235Z
LAST-MODIFIED:20190529T191235Z
UID:7491-1560276000-1560283200@greatermindenchamber.com
SUMMARY:Family Movie Night
DESCRIPTION:Carol Danvers becomes one of the universe’s most powerful heroes when Earth is caught in the middle of the galactic war between two alien races.
URL:https://greatermindenchamber.com/event/family-movie-night-3/
LOCATION:Webster Parish Library\, 521 East & West Street\, Minden\, LA\, 71055\, United States
CATEGORIES:Community Events
ATTACH;FMTTYPE=image/jpeg:https://greatermindenchamber.com/wp-content/uploads/2019/05/caot-marvel.jpg
END:VEVENT
BEGIN:VEVENT
DTSTART;TZID=UTC:20190612T100000
DTEND;TZID=UTC:20190612T110000
DTSTAMP:20260420T061413
CREATED:20190529T193057Z
LAST-MODIFIED:20190610T184020Z
UID:7504-1560333600-1560337200@greatermindenchamber.com
SUMMARY:Glow in the Dark Story Time
DESCRIPTION:All Ages
URL:https://greatermindenchamber.com/event/glow-in-the-dark-story-time/
LOCATION:Webster Parish Library\, 521 East & West Street\, Minden\, LA\, 71055\, United States
CATEGORIES:Community Events
ATTACH;FMTTYPE=image/jpeg:https://greatermindenchamber.com/wp-content/uploads/2019/05/glow-in-dark-story-time.jpg
END:VEVENT
BEGIN:VEVENT
DTSTART;TZID=UTC:20190612T140000
DTEND;TZID=UTC:20190612T160000
DTSTAMP:20260420T061413
CREATED:20190529T205111Z
LAST-MODIFIED:20190529T205111Z
UID:7540-1560348000-1560355200@greatermindenchamber.com
SUMMARY:Wind Spirals
DESCRIPTION:Teens Ages 13-18
URL:https://greatermindenchamber.com/event/wind-spirals/
LOCATION:Webster Parish Library\, 521 East & West Street\, Minden\, LA\, 71055\, United States
CATEGORIES:Community Events
END:VEVENT
BEGIN:VEVENT
DTSTART;TZID=UTC:20190613T130000
DTEND;TZID=UTC:20190613T140000
DTSTAMP:20260420T061413
CREATED:20190529T193234Z
LAST-MODIFIED:20190610T184443Z
UID:7506-1560430800-1560434400@greatermindenchamber.com
SUMMARY:Toddler Paint & Play
DESCRIPTION:It’s back! Our super popular Toddler Paint and Play returns on June 13th. Bring your toddlers in for some messy fun and be sure to wear old clothes because the finger paints will be out! Come make some new friends at your library!
URL:https://greatermindenchamber.com/event/toddler-paint-play/
LOCATION:Webster Parish Library\, 521 East & West Street\, Minden\, LA\, 71055\, United States
CATEGORIES:Community Events
END:VEVENT
BEGIN:VEVENT
DTSTART;TZID=UTC:20190613T140000
DTEND;TZID=UTC:20190613T160000
DTSTAMP:20260420T061413
CREATED:20190529T205157Z
LAST-MODIFIED:20190529T205157Z
UID:7542-1560434400-1560441600@greatermindenchamber.com
SUMMARY:Mystery Theater
DESCRIPTION:Teens Ages 13-18
URL:https://greatermindenchamber.com/event/mystery-theater/
LOCATION:Webster Parish Library\, 521 East & West Street\, Minden\, LA\, 71055\, United States
CATEGORIES:Community Events
END:VEVENT
BEGIN:VEVENT
DTSTART;TZID=UTC:20190613T180000
DTEND;TZID=UTC:20190613T190000
DTSTAMP:20260420T061413
CREATED:20190529T194403Z
LAST-MODIFIED:20190529T194403Z
UID:7508-1560448800-1560452400@greatermindenchamber.com
SUMMARY:Art Attack
DESCRIPTION:
URL:https://greatermindenchamber.com/event/art-attack-2/
LOCATION:Webster Parish Library\, 521 East & West Street\, Minden\, LA\, 71055\, United States
CATEGORIES:Community Events
ATTACH;FMTTYPE=image/jpeg:https://greatermindenchamber.com/wp-content/uploads/2019/04/mom-n-me.jpg
END:VEVENT
BEGIN:VEVENT
DTSTART;TZID=UTC:20190614T140000
DTEND;TZID=UTC:20190614T160000
DTSTAMP:20260420T061413
CREATED:20190529T205254Z
LAST-MODIFIED:20190529T205254Z
UID:7544-1560520800-1560528000@greatermindenchamber.com
SUMMARY:Planetarium
DESCRIPTION:Teens Ages 13-18
URL:https://greatermindenchamber.com/event/planetarium/
LOCATION:Webster Parish Library\, 521 East & West Street\, Minden\, LA\, 71055\, United States
CATEGORIES:Community Events
END:VEVENT
BEGIN:VEVENT
DTSTART;TZID=UTC:20190614T170000
DTEND;TZID=UTC:20190614T233000
DTSTAMP:20260420T061413
CREATED:20190316T011148Z
LAST-MODIFIED:20190316T011148Z
UID:6619-1560531600-1560555000@greatermindenchamber.com
SUMMARY:MRC Playday & Jackpot
DESCRIPTION:Order of Events:\nLeadline Barrels\n0-5 Barrels\nLeadline Poles\n0-5 Poles\n6-9 Poles\n10-13 Poles\n14-18 Poles\n19-34 Poles\n35 & Over Poles\n6-9 Barrels\n10-13 Barrels\n14-18 Barrels\n19-34 Barrels\n35 & Over Barrels\nJackpot Barrels
URL:https://greatermindenchamber.com/event/mrc-playday-jackpot-2019-06-14/
LOCATION:Minden Riding Club\, 413 Whitlock St\, Minden\, LA\, 71055\, United States
CATEGORIES:Community Events
END:VEVENT
BEGIN:VEVENT
DTSTART;TZID=UTC:20190615T100000
DTEND;TZID=UTC:20190615T110000
DTSTAMP:20260420T061413
CREATED:20190529T195215Z
LAST-MODIFIED:20190610T184616Z
UID:7510-1560592800-1560596400@greatermindenchamber.com
SUMMARY:Lego Club
DESCRIPTION:Join us for Lego Club Master Builders Saturday\, June 15th at 10 a.m. or 2 p.m. Be sure to call or stop by and register your child. Snacks are provided.
URL:https://greatermindenchamber.com/event/lego-club/
LOCATION:Webster Parish Library\, 521 East & West Street\, Minden\, LA\, 71055\, United States
CATEGORIES:Community Events
ATTACH;FMTTYPE=image/jpeg:https://greatermindenchamber.com/wp-content/uploads/2019/05/Lego-Club-3_2.jpg
END:VEVENT
BEGIN:VEVENT
DTSTART;TZID=UTC:20190615T110000
DTEND;TZID=UTC:20190615T150000
DTSTAMP:20260420T061413
CREATED:20190522T233553Z
LAST-MODIFIED:20190522T233553Z
UID:7472-1560596400-1560610800@greatermindenchamber.com
SUMMARY:Burger Bonanza Open House & Fly In
DESCRIPTION:The Minden Airport is proud to host our inaugural Burger Bonanza\, presented by B1 BANK. Come check out our new facility and enjoy food\, live music\, and of course\, aircraft on display
URL:https://greatermindenchamber.com/event/burger-bonanza-open-house-fly-in/
LOCATION:Minden Airport\, 100 Aviation Dr\, Minden\, LA\, 71055\, United States
CATEGORIES:Community Events
ATTACH;FMTTYPE=image/jpeg:https://greatermindenchamber.com/wp-content/uploads/2019/05/burger-bonanza.jpg
ORGANIZER;CN="Greater Minden Chamber":MAILTO:info@greatermindenchamber.com
END:VEVENT
BEGIN:VEVENT
DTSTART;TZID=UTC:20190615T120000
DTEND;TZID=UTC:20190615T120000
DTSTAMP:20260420T061413
CREATED:20190610T184358Z
LAST-MODIFIED:20190611T013055Z
UID:7589-1560600000-1560600000@greatermindenchamber.com
SUMMARY:Customer Appreciation Lunch
DESCRIPTION:We always have great deals going to close out the month\, so if you or someone you know may be in the market for a pre-loved ride.. come out and enjoy a FREE lunch on us and check out our inventory 🔥 \nEven if you are not looking to purchase a vehicle\, we will be having some door prizes throughout the day!! We look forward to seeing you!!
URL:https://greatermindenchamber.com/event/customer-appreciation-lunch/
LOCATION:Carroway Pre-Owned of Minden\, 453 Highway 531\, Minden\, LA\, 71055\, United States
CATEGORIES:Community Events
ATTACH;FMTTYPE=image/jpeg:https://greatermindenchamber.com/wp-content/uploads/2019/06/carroway-lunch-1.jpg
END:VEVENT
BEGIN:VEVENT
DTSTART;TZID=UTC:20190615T140000
DTEND;TZID=UTC:20190615T150000
DTSTAMP:20260420T061413
CREATED:20190529T195215Z
LAST-MODIFIED:20190610T184616Z
UID:7513-1560607200-1560610800@greatermindenchamber.com
SUMMARY:Lego Club
DESCRIPTION:Join us for Lego Club Master Builders Saturday\, June 15th at 10 a.m. or 2 p.m. Be sure to call or stop by and register your child. Snacks are provided.
URL:https://greatermindenchamber.com/event/lego-club-2019-06-15/
LOCATION:Webster Parish Library\, 521 East & West Street\, Minden\, LA\, 71055\, United States
CATEGORIES:Community Events
ATTACH;FMTTYPE=image/jpeg:https://greatermindenchamber.com/wp-content/uploads/2019/05/Lego-Club-3_2.jpg
END:VEVENT
BEGIN:VEVENT
DTSTART;TZID=UTC:20190615T180000
DTEND;TZID=UTC:20190615T200000
DTSTAMP:20260420T061413
CREATED:20190530T033141Z
LAST-MODIFIED:20190530T033141Z
UID:7580-1560621600-1560628800@greatermindenchamber.com
SUMMARY:Father's Day Grill & Chill
DESCRIPTION:A day to come together as a family for food\, fun\, and celebrating DAD! We will be having a corn hole competition so bring your competitive side! There will also be food & door prizes! So families\, get all the important men in your life together and bring them out to this year’s Father’s Day Grill & Chill!
URL:https://greatermindenchamber.com/event/fathers-day-grill-chill/
LOCATION:Living Word Minden\, 440 Highway 531\, Minden\, LA\, 71055\, United States
CATEGORIES:Community Events
ATTACH;FMTTYPE=image/jpeg:https://greatermindenchamber.com/wp-content/uploads/2019/05/grill-Chill.jpg
END:VEVENT
BEGIN:VEVENT
DTSTART;TZID=UTC:20190617T100000
DTEND;TZID=UTC:20190617T110000
DTSTAMP:20260420T061413
CREATED:20190529T195833Z
LAST-MODIFIED:20190529T195833Z
UID:7514-1560765600-1560769200@greatermindenchamber.com
SUMMARY:Galaxy Slime
DESCRIPTION:
URL:https://greatermindenchamber.com/event/galaxy-slime/
LOCATION:Webster Parish Library\, 521 East & West Street\, Minden\, LA\, 71055\, United States
CATEGORIES:Community Events
END:VEVENT
BEGIN:VEVENT
DTSTART;TZID=UTC:20190617T140000
DTEND;TZID=UTC:20190617T160000
DTSTAMP:20260420T061413
CREATED:20190529T205345Z
LAST-MODIFIED:20190529T205345Z
UID:7546-1560780000-1560787200@greatermindenchamber.com
SUMMARY:Solar Wear
DESCRIPTION:Teens Ages 13-18
URL:https://greatermindenchamber.com/event/solar-wear/
LOCATION:Webster Parish Library\, 521 East & West Street\, Minden\, LA\, 71055\, United States
CATEGORIES:Community Events
END:VEVENT
BEGIN:VEVENT
DTSTART;TZID=UTC:20190617T150000
DTEND;TZID=UTC:20190617T173000
DTSTAMP:20260420T061413
CREATED:20190611T011857Z
LAST-MODIFIED:20190611T011857Z
UID:7601-1560783600-1560792600@greatermindenchamber.com
SUMMARY:Meet & Greet
DESCRIPTION:Get an opportunity to meet Congressman Ralph Abraham candidate for Louisiana Governor and Robert Mills candidate for Louisiana Senate. \nMonday June 17th 3pm-5:30pm at Orleans on Main located at 513 Main St. Minden\, LA \nEveryone is welcome so be sure to bring a friend!
URL:https://greatermindenchamber.com/event/meet-greet/
LOCATION:Orleans on Main\, 513 Main Street\, Minden\, LA\, 71055\, United States
CATEGORIES:Community Events,Networking
END:VEVENT
BEGIN:VEVENT
DTSTART;TZID=UTC:20190617T180000
DTEND;TZID=UTC:20190617T190000
DTSTAMP:20260420T061413
CREATED:20190529T195955Z
LAST-MODIFIED:20190529T195955Z
UID:7516-1560794400-1560798000@greatermindenchamber.com
SUMMARY:Tinker Lab
DESCRIPTION:
URL:https://greatermindenchamber.com/event/tinker-lab-2/
LOCATION:Webster Parish Library\, 521 East & West Street\, Minden\, LA\, 71055\, United States
CATEGORIES:Community Events
END:VEVENT
BEGIN:VEVENT
DTSTART;TZID=UTC:20190617T190000
DTEND;TZID=UTC:20190617T203000
DTSTAMP:20260420T061413
CREATED:20190412T232226Z
LAST-MODIFIED:20190412T232226Z
UID:7316-1560798000-1560803400@greatermindenchamber.com
SUMMARY:Wizard of Oz (Young Performers' Edition)
DESCRIPTION:By L. Frank Baum\nWith Music and Lyrics by Harold Arlen and E. Y. Harburg\nBackground Music by Herbert Stothart\nDance and Vocal Arrangements by Peter Howard\nOrchestration by Larry Wilcox\nAdapted by John Kane for the Royal Shakespeare Company\nBased upon the Classic Motion Picture owned by Turner Entertainment Co. and distributed in all media by Warner Bros.\nAdaptation and support materials for the Young Performers’ Edition Developed by iTheatrics\nUnder the supervision of Timothy Allen McDonald \nDirected by:\nSteele Moegle \nSponsored by:\nJonesboro State Bank – Pledge10 Grant \nPlot:\nAfter a tornado whisks her away to the magical land of Oz\, young Dorothy Gale teams up with a Scarecrow\, a Tin Woodsman\, and a Cowardly Lion to find the powerful Wizard of Oz\, who can send her home. Along the way\, they must avoid the clutches of the Wicked Witch of the West\, who is trying to steal the mysterious magic slippers that once belonged to her evil sister\, but are now on Dorothy’s feet. Dorothy eventually learns just how magical friendship can be and how wonderful it can feel to go home again. \nDates:\nJune 17. at 7 PM\nJune 18\, at 10 AM and 7 PM\nJune 19\, at 10 AM and 7 PM\nJune 20\, at 7 PM \nWhere:\nThe Dixie Center for the Arts\n212 Vienna St.\nRuston\, La 71270 \nTickets:\nAdults – $12\nStudent/Child – $6 \nTickets on sale at www.rctruston.org on June 3\, 2019
URL:https://greatermindenchamber.com/event/wizard-of-oz-young-performers-edition/
LOCATION:Dixie Center for the Arts\, 212 N. Vienna Street\, Ruston\, LA\, 71270\, United States
CATEGORIES:Community Events
ATTACH;FMTTYPE=image/jpeg:https://greatermindenchamber.com/wp-content/uploads/2019/04/Facebook-Cover-TWoO.jpg
ORGANIZER;CN="Ruston Community Theatre":MAILTO:rcttheatre@gmail.com
END:VEVENT
BEGIN:VEVENT
DTSTART;TZID=UTC:20190618T100000
DTEND;TZID=UTC:20190619T113000
DTSTAMP:20260420T061413
CREATED:20190412T232226Z
LAST-MODIFIED:20190412T232226Z
UID:7318-1560852000-1560943800@greatermindenchamber.com
SUMMARY:Wizard of Oz (Young Performers' Edition)
DESCRIPTION:By L. Frank Baum\nWith Music and Lyrics by Harold Arlen and E. Y. Harburg\nBackground Music by Herbert Stothart\nDance and Vocal Arrangements by Peter Howard\nOrchestration by Larry Wilcox\nAdapted by John Kane for the Royal Shakespeare Company\nBased upon the Classic Motion Picture owned by Turner Entertainment Co. and distributed in all media by Warner Bros.\nAdaptation and support materials for the Young Performers’ Edition Developed by iTheatrics\nUnder the supervision of Timothy Allen McDonald \nDirected by:\nSteele Moegle \nSponsored by:\nJonesboro State Bank – Pledge10 Grant \nPlot:\nAfter a tornado whisks her away to the magical land of Oz\, young Dorothy Gale teams up with a Scarecrow\, a Tin Woodsman\, and a Cowardly Lion to find the powerful Wizard of Oz\, who can send her home. Along the way\, they must avoid the clutches of the Wicked Witch of the West\, who is trying to steal the mysterious magic slippers that once belonged to her evil sister\, but are now on Dorothy’s feet. Dorothy eventually learns just how magical friendship can be and how wonderful it can feel to go home again. \nDates:\nJune 17. at 7 PM\nJune 18\, at 10 AM and 7 PM\nJune 19\, at 10 AM and 7 PM\nJune 20\, at 7 PM \nWhere:\nThe Dixie Center for the Arts\n212 Vienna St.\nRuston\, La 71270 \nTickets:\nAdults – $12\nStudent/Child – $6 \nTickets on sale at www.rctruston.org on June 3\, 2019
URL:https://greatermindenchamber.com/event/wizard-of-oz-young-performers-edition-2019-06-18/
LOCATION:Dixie Center for the Arts\, 212 N. Vienna Street\, Ruston\, LA\, 71270\, United States
CATEGORIES:Community Events
ATTACH;FMTTYPE=image/jpeg:https://greatermindenchamber.com/wp-content/uploads/2019/04/Facebook-Cover-TWoO.jpg
ORGANIZER;CN="Ruston Community Theatre":MAILTO:rcttheatre@gmail.com
END:VEVENT
BEGIN:VEVENT
DTSTART;TZID=UTC:20190618T140000
DTEND;TZID=UTC:20190618T140000
DTSTAMP:20260420T061413
CREATED:20190529T211258Z
LAST-MODIFIED:20190529T211415Z
UID:7574-1560866400-1560866400@greatermindenchamber.com
SUMMARY:Adult Space Shirts
DESCRIPTION:Adults 18 & Over
URL:https://greatermindenchamber.com/event/adult-space-shirts/
LOCATION:Webster Parish Library\, 521 East & West Street\, Minden\, LA\, 71055\, United States
CATEGORIES:Community Events
END:VEVENT
BEGIN:VEVENT
DTSTART;TZID=UTC:20190618T140000
DTEND;TZID=UTC:20190618T160000
DTSTAMP:20260420T061413
CREATED:20190529T205656Z
LAST-MODIFIED:20190529T205656Z
UID:7548-1560866400-1560873600@greatermindenchamber.com
SUMMARY:Light Painting
DESCRIPTION:Teens Ages 13-18
URL:https://greatermindenchamber.com/event/light-painting/
LOCATION:Webster Parish Library\, 521 East & West Street\, Minden\, LA\, 71055\, United States
CATEGORIES:Community Events
END:VEVENT
BEGIN:VEVENT
DTSTART;TZID=UTC:20190618T173000
DTEND;TZID=UTC:20190618T193000
DTSTAMP:20260420T061413
CREATED:20190529T184434Z
LAST-MODIFIED:20190529T184434Z
UID:7487-1560879000-1560886200@greatermindenchamber.com
SUMMARY:The Rec Center Booster Club Meeting
DESCRIPTION:This is a meeting with the public to discuss the problems we are facing out at the Rec center and to find solutions to help fix them. Please join us June 18th.
URL:https://greatermindenchamber.com/event/the-rec-center-booster-club-meeting/
LOCATION:Minden Recreation Center\, 1001 Recreation Dr\, Minen\, LA\, 71055\, United States
CATEGORIES:Community Events,Networking
ATTACH;FMTTYPE=image/jpeg:https://greatermindenchamber.com/wp-content/uploads/2019/05/rec-booster.jpg
END:VEVENT
BEGIN:VEVENT
DTSTART;TZID=UTC:20190618T190000
DTEND;TZID=UTC:20190618T203000
DTSTAMP:20260420T061413
CREATED:20190412T232226Z
LAST-MODIFIED:20190412T232226Z
UID:7319-1560884400-1560889800@greatermindenchamber.com
SUMMARY:Wizard of Oz (Young Performers' Edition)
DESCRIPTION:By L. Frank Baum\nWith Music and Lyrics by Harold Arlen and E. Y. Harburg\nBackground Music by Herbert Stothart\nDance and Vocal Arrangements by Peter Howard\nOrchestration by Larry Wilcox\nAdapted by John Kane for the Royal Shakespeare Company\nBased upon the Classic Motion Picture owned by Turner Entertainment Co. and distributed in all media by Warner Bros.\nAdaptation and support materials for the Young Performers’ Edition Developed by iTheatrics\nUnder the supervision of Timothy Allen McDonald \nDirected by:\nSteele Moegle \nSponsored by:\nJonesboro State Bank – Pledge10 Grant \nPlot:\nAfter a tornado whisks her away to the magical land of Oz\, young Dorothy Gale teams up with a Scarecrow\, a Tin Woodsman\, and a Cowardly Lion to find the powerful Wizard of Oz\, who can send her home. Along the way\, they must avoid the clutches of the Wicked Witch of the West\, who is trying to steal the mysterious magic slippers that once belonged to her evil sister\, but are now on Dorothy’s feet. Dorothy eventually learns just how magical friendship can be and how wonderful it can feel to go home again. \nDates:\nJune 17. at 7 PM\nJune 18\, at 10 AM and 7 PM\nJune 19\, at 10 AM and 7 PM\nJune 20\, at 7 PM \nWhere:\nThe Dixie Center for the Arts\n212 Vienna St.\nRuston\, La 71270 \nTickets:\nAdults – $12\nStudent/Child – $6 \nTickets on sale at www.rctruston.org on June 3\, 2019
URL:https://greatermindenchamber.com/event/wizard-of-oz-young-performers-edition-2019-06-18-2/
LOCATION:Dixie Center for the Arts\, 212 N. Vienna Street\, Ruston\, LA\, 71270\, United States
CATEGORIES:Community Events
ATTACH;FMTTYPE=image/jpeg:https://greatermindenchamber.com/wp-content/uploads/2019/04/Facebook-Cover-TWoO.jpg
ORGANIZER;CN="Ruston Community Theatre":MAILTO:rcttheatre@gmail.com
END:VEVENT
BEGIN:VEVENT
DTSTART;TZID=UTC:20190619T100000
DTEND;TZID=UTC:20190619T110000
DTSTAMP:20260420T061413
CREATED:20190529T200217Z
LAST-MODIFIED:20190529T200217Z
UID:7518-1560938400-1560942000@greatermindenchamber.com
SUMMARY:Johnette Downing
DESCRIPTION:
URL:https://greatermindenchamber.com/event/johnette-downing/
LOCATION:Webster Parish Library\, 521 East & West Street\, Minden\, LA\, 71055\, United States
CATEGORIES:Community Events
END:VEVENT
BEGIN:VEVENT
DTSTART;TZID=UTC:20190619T100000
DTEND;TZID=UTC:20190620T113000
DTSTAMP:20260420T061413
CREATED:20190412T232227Z
LAST-MODIFIED:20190412T232227Z
UID:7320-1560938400-1561030200@greatermindenchamber.com
SUMMARY:Wizard of Oz (Young Performers' Edition)
DESCRIPTION:By L. Frank Baum\nWith Music and Lyrics by Harold Arlen and E. Y. Harburg\nBackground Music by Herbert Stothart\nDance and Vocal Arrangements by Peter Howard\nOrchestration by Larry Wilcox\nAdapted by John Kane for the Royal Shakespeare Company\nBased upon the Classic Motion Picture owned by Turner Entertainment Co. and distributed in all media by Warner Bros.\nAdaptation and support materials for the Young Performers’ Edition Developed by iTheatrics\nUnder the supervision of Timothy Allen McDonald \nDirected by:\nSteele Moegle \nSponsored by:\nJonesboro State Bank – Pledge10 Grant \nPlot:\nAfter a tornado whisks her away to the magical land of Oz\, young Dorothy Gale teams up with a Scarecrow\, a Tin Woodsman\, and a Cowardly Lion to find the powerful Wizard of Oz\, who can send her home. Along the way\, they must avoid the clutches of the Wicked Witch of the West\, who is trying to steal the mysterious magic slippers that once belonged to her evil sister\, but are now on Dorothy’s feet. Dorothy eventually learns just how magical friendship can be and how wonderful it can feel to go home again. \nDates:\nJune 17. at 7 PM\nJune 18\, at 10 AM and 7 PM\nJune 19\, at 10 AM and 7 PM\nJune 20\, at 7 PM \nWhere:\nThe Dixie Center for the Arts\n212 Vienna St.\nRuston\, La 71270 \nTickets:\nAdults – $12\nStudent/Child – $6 \nTickets on sale at www.rctruston.org on June 3\, 2019
URL:https://greatermindenchamber.com/event/wizard-of-oz-young-performers-edition-2019-06-19/
LOCATION:Dixie Center for the Arts\, 212 N. Vienna Street\, Ruston\, LA\, 71270\, United States
CATEGORIES:Community Events
ATTACH;FMTTYPE=image/jpeg:https://greatermindenchamber.com/wp-content/uploads/2019/04/Facebook-Cover-TWoO.jpg
ORGANIZER;CN="Ruston Community Theatre":MAILTO:rcttheatre@gmail.com
END:VEVENT
BEGIN:VEVENT
DTSTART;TZID=UTC:20190619T140000
DTEND;TZID=UTC:20190619T160000
DTSTAMP:20260420T061413
CREATED:20190529T205751Z
LAST-MODIFIED:20190529T205751Z
UID:7550-1560952800-1560960000@greatermindenchamber.com
SUMMARY:Upcycle Newspaper
DESCRIPTION:Teens Ages 13-18
URL:https://greatermindenchamber.com/event/upcycle-newspaper/
LOCATION:Webster Parish Library\, 521 East & West Street\, Minden\, LA\, 71055\, United States
CATEGORIES:Community Events
END:VEVENT
BEGIN:VEVENT
DTSTART;TZID=UTC:20190619T190000
DTEND;TZID=UTC:20190619T203000
DTSTAMP:20260420T061413
CREATED:20190412T232227Z
LAST-MODIFIED:20190412T232227Z
UID:7321-1560970800-1560976200@greatermindenchamber.com
SUMMARY:Wizard of Oz (Young Performers' Edition)
DESCRIPTION:By L. Frank Baum\nWith Music and Lyrics by Harold Arlen and E. Y. Harburg\nBackground Music by Herbert Stothart\nDance and Vocal Arrangements by Peter Howard\nOrchestration by Larry Wilcox\nAdapted by John Kane for the Royal Shakespeare Company\nBased upon the Classic Motion Picture owned by Turner Entertainment Co. and distributed in all media by Warner Bros.\nAdaptation and support materials for the Young Performers’ Edition Developed by iTheatrics\nUnder the supervision of Timothy Allen McDonald \nDirected by:\nSteele Moegle \nSponsored by:\nJonesboro State Bank – Pledge10 Grant \nPlot:\nAfter a tornado whisks her away to the magical land of Oz\, young Dorothy Gale teams up with a Scarecrow\, a Tin Woodsman\, and a Cowardly Lion to find the powerful Wizard of Oz\, who can send her home. Along the way\, they must avoid the clutches of the Wicked Witch of the West\, who is trying to steal the mysterious magic slippers that once belonged to her evil sister\, but are now on Dorothy’s feet. Dorothy eventually learns just how magical friendship can be and how wonderful it can feel to go home again. \nDates:\nJune 17. at 7 PM\nJune 18\, at 10 AM and 7 PM\nJune 19\, at 10 AM and 7 PM\nJune 20\, at 7 PM \nWhere:\nThe Dixie Center for the Arts\n212 Vienna St.\nRuston\, La 71270 \nTickets:\nAdults – $12\nStudent/Child – $6 \nTickets on sale at www.rctruston.org on June 3\, 2019
URL:https://greatermindenchamber.com/event/wizard-of-oz-young-performers-edition-2019-06-19-2/
LOCATION:Dixie Center for the Arts\, 212 N. Vienna Street\, Ruston\, LA\, 71270\, United States
CATEGORIES:Community Events
ATTACH;FMTTYPE=image/jpeg:https://greatermindenchamber.com/wp-content/uploads/2019/04/Facebook-Cover-TWoO.jpg
ORGANIZER;CN="Ruston Community Theatre":MAILTO:rcttheatre@gmail.com
END:VEVENT
BEGIN:VEVENT
DTSTART;TZID=UTC:20190620T140000
DTEND;TZID=UTC:20190620T140000
DTSTAMP:20260420T061413
CREATED:20190529T211345Z
LAST-MODIFIED:20190529T211345Z
UID:7576-1561039200-1561039200@greatermindenchamber.com
SUMMARY:Needle Crafts
DESCRIPTION:Adults 18 & Over
URL:https://greatermindenchamber.com/event/needle-crafts/
LOCATION:Webster Parish Library\, 521 East & West Street\, Minden\, LA\, 71055\, United States
CATEGORIES:Community Events
END:VEVENT
BEGIN:VEVENT
DTSTART;TZID=UTC:20190620T140000
DTEND;TZID=UTC:20190620T160000
DTSTAMP:20260420T061413
CREATED:20190529T205850Z
LAST-MODIFIED:20190529T205850Z
UID:7552-1561039200-1561046400@greatermindenchamber.com
SUMMARY:Silent Library
DESCRIPTION:Teens Ages 13-18
URL:https://greatermindenchamber.com/event/silent-library/
LOCATION:Webster Parish Library\, 521 East & West Street\, Minden\, LA\, 71055\, United States
CATEGORIES:Community Events
END:VEVENT
BEGIN:VEVENT
DTSTART;TZID=UTC:20190620T190000
DTEND;TZID=UTC:20190620T203000
DTSTAMP:20260420T061413
CREATED:20190412T232227Z
LAST-MODIFIED:20190412T232227Z
UID:7322-1561057200-1561062600@greatermindenchamber.com
SUMMARY:Wizard of Oz (Young Performers' Edition)
DESCRIPTION:By L. Frank Baum\nWith Music and Lyrics by Harold Arlen and E. Y. Harburg\nBackground Music by Herbert Stothart\nDance and Vocal Arrangements by Peter Howard\nOrchestration by Larry Wilcox\nAdapted by John Kane for the Royal Shakespeare Company\nBased upon the Classic Motion Picture owned by Turner Entertainment Co. and distributed in all media by Warner Bros.\nAdaptation and support materials for the Young Performers’ Edition Developed by iTheatrics\nUnder the supervision of Timothy Allen McDonald \nDirected by:\nSteele Moegle \nSponsored by:\nJonesboro State Bank – Pledge10 Grant \nPlot:\nAfter a tornado whisks her away to the magical land of Oz\, young Dorothy Gale teams up with a Scarecrow\, a Tin Woodsman\, and a Cowardly Lion to find the powerful Wizard of Oz\, who can send her home. Along the way\, they must avoid the clutches of the Wicked Witch of the West\, who is trying to steal the mysterious magic slippers that once belonged to her evil sister\, but are now on Dorothy’s feet. Dorothy eventually learns just how magical friendship can be and how wonderful it can feel to go home again. \nDates:\nJune 17. at 7 PM\nJune 18\, at 10 AM and 7 PM\nJune 19\, at 10 AM and 7 PM\nJune 20\, at 7 PM \nWhere:\nThe Dixie Center for the Arts\n212 Vienna St.\nRuston\, La 71270 \nTickets:\nAdults – $12\nStudent/Child – $6 \nTickets on sale at www.rctruston.org on June 3\, 2019
URL:https://greatermindenchamber.com/event/wizard-of-oz-young-performers-edition-2019-06-20/
LOCATION:Dixie Center for the Arts\, 212 N. Vienna Street\, Ruston\, LA\, 71270\, United States
CATEGORIES:Community Events
ATTACH;FMTTYPE=image/jpeg:https://greatermindenchamber.com/wp-content/uploads/2019/04/Facebook-Cover-TWoO.jpg
ORGANIZER;CN="Ruston Community Theatre":MAILTO:rcttheatre@gmail.com
END:VEVENT
END:VCALENDAR