BEGIN:VCALENDAR
VERSION:2.0
PRODID:-//Greater Minden Chamber - ECPv6.15.20//NONSGML v1.0//EN
CALSCALE:GREGORIAN
METHOD:PUBLISH
X-ORIGINAL-URL:https://greatermindenchamber.com
X-WR-CALDESC:Events for Greater Minden Chamber
REFRESH-INTERVAL;VALUE=DURATION:PT1H
X-Robots-Tag:noindex
X-PUBLISHED-TTL:PT1H
BEGIN:VTIMEZONE
TZID:UTC
BEGIN:STANDARD
TZOFFSETFROM:+0000
TZOFFSETTO:+0000
TZNAME:UTC
DTSTART:20180101T000000
END:STANDARD
END:VTIMEZONE
BEGIN:VTIMEZONE
TZID:America/Chicago
BEGIN:DAYLIGHT
TZOFFSETFROM:-0600
TZOFFSETTO:-0500
TZNAME:CDT
DTSTART:20180311T080000
END:DAYLIGHT
BEGIN:STANDARD
TZOFFSETFROM:-0500
TZOFFSETTO:-0600
TZNAME:CST
DTSTART:20181104T070000
END:STANDARD
BEGIN:DAYLIGHT
TZOFFSETFROM:-0600
TZOFFSETTO:-0500
TZNAME:CDT
DTSTART:20190310T080000
END:DAYLIGHT
BEGIN:STANDARD
TZOFFSETFROM:-0500
TZOFFSETTO:-0600
TZNAME:CST
DTSTART:20191103T070000
END:STANDARD
BEGIN:DAYLIGHT
TZOFFSETFROM:-0600
TZOFFSETTO:-0500
TZNAME:CDT
DTSTART:20200308T080000
END:DAYLIGHT
BEGIN:STANDARD
TZOFFSETFROM:-0500
TZOFFSETTO:-0600
TZNAME:CST
DTSTART:20201101T070000
END:STANDARD
END:VTIMEZONE
BEGIN:VEVENT
DTSTART;TZID=UTC:20190620T140000
DTEND;TZID=UTC:20190620T140000
DTSTAMP:20260425T051837
CREATED:20190529T211345Z
LAST-MODIFIED:20190529T211345Z
UID:7576-1561039200-1561039200@greatermindenchamber.com
SUMMARY:Needle Crafts
DESCRIPTION:Adults 18 & Over
URL:https://greatermindenchamber.com/event/needle-crafts/
LOCATION:Webster Parish Library\, 521 East & West Street\, Minden\, LA\, 71055\, United States
CATEGORIES:Community Events
END:VEVENT
BEGIN:VEVENT
DTSTART;TZID=UTC:20190620T140000
DTEND;TZID=UTC:20190620T160000
DTSTAMP:20260425T051837
CREATED:20190529T205850Z
LAST-MODIFIED:20190529T205850Z
UID:7552-1561039200-1561046400@greatermindenchamber.com
SUMMARY:Silent Library
DESCRIPTION:Teens Ages 13-18
URL:https://greatermindenchamber.com/event/silent-library/
LOCATION:Webster Parish Library\, 521 East & West Street\, Minden\, LA\, 71055\, United States
CATEGORIES:Community Events
END:VEVENT
BEGIN:VEVENT
DTSTART;TZID=UTC:20190620T190000
DTEND;TZID=UTC:20190620T203000
DTSTAMP:20260425T051837
CREATED:20190412T232227Z
LAST-MODIFIED:20190412T232227Z
UID:7322-1561057200-1561062600@greatermindenchamber.com
SUMMARY:Wizard of Oz (Young Performers' Edition)
DESCRIPTION:By L. Frank Baum\nWith Music and Lyrics by Harold Arlen and E. Y. Harburg\nBackground Music by Herbert Stothart\nDance and Vocal Arrangements by Peter Howard\nOrchestration by Larry Wilcox\nAdapted by John Kane for the Royal Shakespeare Company\nBased upon the Classic Motion Picture owned by Turner Entertainment Co. and distributed in all media by Warner Bros.\nAdaptation and support materials for the Young Performers’ Edition Developed by iTheatrics\nUnder the supervision of Timothy Allen McDonald \nDirected by:\nSteele Moegle \nSponsored by:\nJonesboro State Bank – Pledge10 Grant \nPlot:\nAfter a tornado whisks her away to the magical land of Oz\, young Dorothy Gale teams up with a Scarecrow\, a Tin Woodsman\, and a Cowardly Lion to find the powerful Wizard of Oz\, who can send her home. Along the way\, they must avoid the clutches of the Wicked Witch of the West\, who is trying to steal the mysterious magic slippers that once belonged to her evil sister\, but are now on Dorothy’s feet. Dorothy eventually learns just how magical friendship can be and how wonderful it can feel to go home again. \nDates:\nJune 17. at 7 PM\nJune 18\, at 10 AM and 7 PM\nJune 19\, at 10 AM and 7 PM\nJune 20\, at 7 PM \nWhere:\nThe Dixie Center for the Arts\n212 Vienna St.\nRuston\, La 71270 \nTickets:\nAdults – $12\nStudent/Child – $6 \nTickets on sale at www.rctruston.org on June 3\, 2019
URL:https://greatermindenchamber.com/event/wizard-of-oz-young-performers-edition-2019-06-20/
LOCATION:Dixie Center for the Arts\, 212 N. Vienna Street\, Ruston\, LA\, 71270\, United States
CATEGORIES:Community Events
ATTACH;FMTTYPE=image/jpeg:https://greatermindenchamber.com/wp-content/uploads/2019/04/Facebook-Cover-TWoO.jpg
ORGANIZER;CN="Ruston Community Theatre":MAILTO:rcttheatre@gmail.com
END:VEVENT
BEGIN:VEVENT
DTSTART;TZID=UTC:20190621T140000
DTEND;TZID=UTC:20190621T160000
DTSTAMP:20260425T051838
CREATED:20190529T210001Z
LAST-MODIFIED:20190529T210001Z
UID:7554-1561125600-1561132800@greatermindenchamber.com
SUMMARY:Exotic Animal Visit
DESCRIPTION:Teens Ages 13-18
URL:https://greatermindenchamber.com/event/exotic-animal-visit/
LOCATION:Webster Parish Library\, 521 East & West Street\, Minden\, LA\, 71055\, United States
CATEGORIES:Community Events
END:VEVENT
BEGIN:VEVENT
DTSTART;TZID=America/Chicago:20190622T180000
DTEND;TZID=America/Chicago:20190622T210000
DTSTAMP:20260425T051838
CREATED:20190620T155840Z
LAST-MODIFIED:20190620T155840Z
UID:7642-1561226400-1561237200@greatermindenchamber.com
SUMMARY:Welcome to Summer -Geaux Fresh Event
DESCRIPTION:Welcome to Summer!\nWe are so excited about many of our new items! We will be holding a Geaux Fresh event highlighting some of our Po-boys & Burgers. \nEvent Menu:\nFeatured Po-boys: shrimp boil po-boy\, colorado beef po-boy\, chicken alfredo po-boy\, meatball po-boy \nFeatured Burgers: squealer\, jerk burger\, guiness burger\, traditional bacon cheeseburger\, el frita \nSides: mango habanero mac & cheese\, wedges\, chips \nKids menu: pepperoni pizza\, grilled mac and cheese \n*Customers are allowed to bring their favorite beer to this event.
URL:https://greatermindenchamber.com/event/welcome-to-summer-geaux-fresh-event/
LOCATION:Geaux Fresh\, 801 Broadway St.\, Minden\, 71055\, United States
CATEGORIES:Community Events
ATTACH;FMTTYPE=image/jpeg:https://greatermindenchamber.com/wp-content/uploads/2019/06/geaux-fresh.jpg
END:VEVENT
BEGIN:VEVENT
DTSTART;TZID=UTC:20190624T100000
DTEND;TZID=UTC:20190624T110000
DTSTAMP:20260425T051838
CREATED:20190529T200624Z
LAST-MODIFIED:20190529T200624Z
UID:7520-1561370400-1561374000@greatermindenchamber.com
SUMMARY:Alien Creation Stations
DESCRIPTION:
URL:https://greatermindenchamber.com/event/alien-creation-stations/
LOCATION:Webster Parish Library\, 521 East & West Street\, Minden\, LA\, 71055\, United States
CATEGORIES:Community Events
END:VEVENT
BEGIN:VEVENT
DTSTART;TZID=UTC:20190624T140000
DTEND;TZID=UTC:20190624T160000
DTSTAMP:20260425T051838
CREATED:20190529T210050Z
LAST-MODIFIED:20190529T210050Z
UID:7556-1561384800-1561392000@greatermindenchamber.com
SUMMARY:Glass Fired Frames
DESCRIPTION:Teens Ages 13-18
URL:https://greatermindenchamber.com/event/glass-fired-frames/
LOCATION:Webster Parish Library\, 521 East & West Street\, Minden\, LA\, 71055\, United States
CATEGORIES:Community Events
END:VEVENT
BEGIN:VEVENT
DTSTART;TZID=UTC:20190624T180000
DTEND;TZID=UTC:20190628T200000
DTSTAMP:20260425T051838
CREATED:20190610T185136Z
LAST-MODIFIED:20190610T185136Z
UID:7598-1561399200-1561752000@greatermindenchamber.com
SUMMARY:In The WILD VBS
DESCRIPTION:Throw on your camera strap and buckle your seat-belt. VBS 2019 takes you on a wild adventure—with elephants and egrets\, polar bears and penguins\, cockatoos and crocodiles. As you seek out exotic animals\, you’ll also find snapshots of real-life encounters with Jesus in Scripture. Kids go from bewildered to believing as they get In The Wild at this summer’s NABC VBS. Come join us as we zoom in and focus on Jesus! \nClick to the link below to register online!\nhttps://forms.gle/WqEdiAwLz5HGYqQt8
URL:https://greatermindenchamber.com/event/in-the-wild-vbs/
LOCATION:North Acres Baptist Church\, 1852 Lewisville Rd\, Minden\, LA\, 71055\, United States
CATEGORIES:Community Events
ATTACH;FMTTYPE=image/jpeg:https://greatermindenchamber.com/wp-content/uploads/2019/06/North-Acres-VBS.jpg
ORGANIZER;CN="North Acres Baptist Church":MAILTO:office@nabcminden.com
END:VEVENT
BEGIN:VEVENT
DTSTART;TZID=UTC:20190624T183000
DTEND;TZID=UTC:20190624T190000
DTSTAMP:20260425T051838
CREATED:20190529T200803Z
LAST-MODIFIED:20190529T200803Z
UID:7522-1561401000-1561402800@greatermindenchamber.com
SUMMARY:Stuffies In Space! Stuffed Animal Sleepover
DESCRIPTION:
URL:https://greatermindenchamber.com/event/stuffies-in-space-stuffed-animal-sleepover/
LOCATION:Webster Parish Library\, 521 East & West Street\, Minden\, LA\, 71055\, United States
CATEGORIES:Community Events
END:VEVENT
BEGIN:VEVENT
DTSTART;VALUE=DATE:20190625
DTEND;VALUE=DATE:20190626
DTSTAMP:20260425T051838
CREATED:20190621T183233Z
LAST-MODIFIED:20190621T183233Z
UID:7674-1561420800-1561507199@greatermindenchamber.com
SUMMARY:Huddle House in Minden Sweetens June with Second Annual National Sweet Cakes Day
DESCRIPTION:Minden’s iconic neighborhood restaurant and gathering place\, Huddle House\, is celebrating the most delicious holiday of them all: National Sweet Cakes Day. \nOn Tuesday\, June 25\, Huddle House in Minden will be serving up free Old-Fashioned Buttermilk Sweet Cakes in honor of the second annual National Sweet Cakes Day.
URL:https://greatermindenchamber.com/event/huddle-house-in-minden-sweetens-june-with-second-annual-national-sweet-cakes-day/
LOCATION:Minden Huddle House\, 12155 Highway 80 Ste 2\, Minden\, LA\, 71055\, United States
CATEGORIES:Community Events
ATTACH;FMTTYPE=image/jpeg:https://greatermindenchamber.com/wp-content/uploads/2019/06/Buttermilk-Close-up.jpg
ORGANIZER;CN="Minden Huddle House":MAILTO:ckoretos@allpointspr.com
END:VEVENT
BEGIN:VEVENT
DTSTART;TZID=UTC:20190625T140000
DTEND;TZID=UTC:20190625T140000
DTSTAMP:20260425T051838
CREATED:20190530T015750Z
LAST-MODIFIED:20190530T015750Z
UID:7578-1561471200-1561471200@greatermindenchamber.com
SUMMARY:Water Coloring
DESCRIPTION:Adults 18 & Over
URL:https://greatermindenchamber.com/event/water-coloring/
LOCATION:Webster Parish Library\, 521 East & West Street\, Minden\, LA\, 71055\, United States
CATEGORIES:Community Events
END:VEVENT
BEGIN:VEVENT
DTSTART;TZID=UTC:20190625T140000
DTEND;TZID=UTC:20190625T160000
DTSTAMP:20260425T051838
CREATED:20190529T210157Z
LAST-MODIFIED:20190529T210157Z
UID:7558-1561471200-1561478400@greatermindenchamber.com
SUMMARY:Game Day Challenge
DESCRIPTION:Teens Ages 13-18
URL:https://greatermindenchamber.com/event/game-day-challenge-2/
LOCATION:Webster Parish Library\, 521 East & West Street\, Minden\, LA\, 71055\, United States
CATEGORIES:Community Events
END:VEVENT
BEGIN:VEVENT
DTSTART;TZID=America/Chicago:20190625T180000
DTEND;TZID=America/Chicago:20190625T200000
DTSTAMP:20260425T051838
CREATED:20190621T152855Z
LAST-MODIFIED:20190621T152855Z
UID:7669-1561485600-1561492800@greatermindenchamber.com
SUMMARY:Family Movie Night
DESCRIPTION:Please join us for Disney’s newest movie adaptation. Free popcorn and drinks are provided. Seating is limited
URL:https://greatermindenchamber.com/event/family-movie-night-4/
LOCATION:Webster Parish Library\, 521 East & West Street\, Minden\, LA\, 71055\, United States
CATEGORIES:Community Events
ATTACH;FMTTYPE=image/jpeg:https://greatermindenchamber.com/wp-content/uploads/2019/06/dumbo.jpg
END:VEVENT
BEGIN:VEVENT
DTSTART;TZID=UTC:20190626T100000
DTEND;TZID=UTC:20190626T110000
DTSTAMP:20260425T051838
CREATED:20190529T200901Z
LAST-MODIFIED:20190529T200901Z
UID:7524-1561543200-1561546800@greatermindenchamber.com
SUMMARY:Sun/Moon Art Stations Story Time
DESCRIPTION:All Ages
URL:https://greatermindenchamber.com/event/sun-moon-art-stations-story-time/
LOCATION:Webster Parish Library\, 521 East & West Street\, Minden\, LA\, 71055\, United States
CATEGORIES:Community Events
END:VEVENT
BEGIN:VEVENT
DTSTART;TZID=UTC:20190626T140000
DTEND;TZID=UTC:20190626T160000
DTSTAMP:20260425T051838
CREATED:20190529T210252Z
LAST-MODIFIED:20190529T210252Z
UID:7560-1561557600-1561564800@greatermindenchamber.com
SUMMARY:Upcycle CDs
DESCRIPTION:Teens Ages 13-18
URL:https://greatermindenchamber.com/event/upcycle-cds/
LOCATION:Webster Parish Library\, 521 East & West Street\, Minden\, LA\, 71055\, United States
CATEGORIES:Community Events
END:VEVENT
BEGIN:VEVENT
DTSTART;TZID=America/Chicago:20190627T080000
DTEND;TZID=America/Chicago:20190627T170000
DTSTAMP:20260425T051838
CREATED:20190627T151621Z
LAST-MODIFIED:20190627T151621Z
UID:7715-1561622400-1561654800@greatermindenchamber.com
SUMMARY:4th of July Duck Derby Extravaganza
DESCRIPTION:QUACK\, QUACK\, RACE! 🦆🏆 \nJoin us for the Inaugural 4th of July Duck Derby Extravaganza on Wednesday\, July 3rd\, 2019. Fun starts at 5pm in Downtown Minden with race time at 7:00pm. You do not want to miss witnessing hundreds (and we mean hundreds!) of ducks “racing” down the streets of Downtown Minden. \nAs with any race\, there has to be a winner. The fastest ducks to the finish line will win CASH PRIZES!\n1st place – $2\,000 cash\n2nd place – $1\,000 cash\n3rd place – $500 cash \nWe want YOU to be the lucky duck! Tickets are now available! 1 duck is $10.00 or a flock of 5 ducks is $40.00. Contact any chamber board member for tickets\, stop by our office at 110 Sibley Road here in Minden\, or visit our website at www.greatermindenchamber.com to buy them online. Need NOT be present to win. \nThe Duck Derby Extravaganza will take place in conjunction with the 4th of July festivities (on Wednesday July 3rd) that Minden Main Street is hosting along with Title Sponsors Hathorn Fireworks and Gibsland Bank & Trust. Come downtown to enjoy a night of fireworks\, kids activities\, music\, and of course a duck race! We hope to see you there. \nLet’s get quackin’!\n*No live ducks will be used for this event. We are using competitive\, experienced racing plastic ducks!* 😉
URL:https://greatermindenchamber.com/event/4th-of-july-duck-derby-extravaganza/
LOCATION:Downtown Minden\, LA\, Main Street\, Minden\, LA\, 71055\, United States
CATEGORIES:Community Events
ATTACH;FMTTYPE=image/png:https://greatermindenchamber.com/wp-content/uploads/2019/06/duck-derby.png
ORGANIZER;CN="Greater Minden Chamber":MAILTO:info@greatermindenchamber.com
END:VEVENT
BEGIN:VEVENT
DTSTART;TZID=UTC:20190627T140000
DTEND;TZID=UTC:20190627T160000
DTSTAMP:20260425T051838
CREATED:20190529T210342Z
LAST-MODIFIED:20190529T210342Z
UID:7562-1561644000-1561651200@greatermindenchamber.com
SUMMARY:Taste Test Challenge
DESCRIPTION:Teens Ages 13-18
URL:https://greatermindenchamber.com/event/taste-test-challenge/
LOCATION:Webster Parish Library\, 521 East & West Street\, Minden\, LA\, 71055\, United States
CATEGORIES:Community Events
END:VEVENT
BEGIN:VEVENT
DTSTART;TZID=America/Chicago:20190627T180000
DTEND;TZID=America/Chicago:20190627T180000
DTSTAMP:20260425T051838
CREATED:20190620T160556Z
LAST-MODIFIED:20190620T160556Z
UID:7650-1561658400-1561658400@greatermindenchamber.com
SUMMARY:Krewe des Ambassadeurs Theme Announcement
DESCRIPTION:Join Us For Our Theme Unveiling Party!!! We Will Be At Orleans On Main!!! June 27th. RSVP Today!!!
URL:https://greatermindenchamber.com/event/krewe-des-ambassadeurs-theme-announcement/
LOCATION:Orleans on Main\, 513 Main Street\, Minden\, LA\, 71055\, United States
CATEGORIES:Community Events
ATTACH;FMTTYPE=image/jpeg:https://greatermindenchamber.com/wp-content/uploads/2019/06/krewe.jpg
END:VEVENT
BEGIN:VEVENT
DTSTART;TZID=UTC:20190628T140000
DTEND;TZID=UTC:20190628T160000
DTSTAMP:20260425T051838
CREATED:20190529T210440Z
LAST-MODIFIED:20190529T210440Z
UID:7564-1561730400-1561737600@greatermindenchamber.com
SUMMARY:Weather
DESCRIPTION:Teens Ages 13-18
URL:https://greatermindenchamber.com/event/weather/
LOCATION:Webster Parish Library\, 521 East & West Street\, Minden\, LA\, 71055\, United States
CATEGORIES:Community Events
END:VEVENT
BEGIN:VEVENT
DTSTART;TZID=UTC:20190628T170000
DTEND;TZID=UTC:20190628T233000
DTSTAMP:20260425T051838
CREATED:20190316T011148Z
LAST-MODIFIED:20190316T011148Z
UID:6620-1561741200-1561764600@greatermindenchamber.com
SUMMARY:MRC Playday & Jackpot
DESCRIPTION:Order of Events:\nLeadline Barrels\n0-5 Barrels\nLeadline Poles\n0-5 Poles\n6-9 Poles\n10-13 Poles\n14-18 Poles\n19-34 Poles\n35 & Over Poles\n6-9 Barrels\n10-13 Barrels\n14-18 Barrels\n19-34 Barrels\n35 & Over Barrels\nJackpot Barrels
URL:https://greatermindenchamber.com/event/mrc-playday-jackpot-2019-06-28/
LOCATION:Minden Riding Club\, 413 Whitlock St\, Minden\, LA\, 71055\, United States
CATEGORIES:Community Events
END:VEVENT
BEGIN:VEVENT
DTSTART;TZID=UTC:20190629T170000
DTEND;TZID=UTC:20190629T210000
DTSTAMP:20260425T051838
CREATED:20190426T212223Z
LAST-MODIFIED:20190426T212223Z
UID:7410-1561827600-1561842000@greatermindenchamber.com
SUMMARY:Springhill Depot Trading Post
DESCRIPTION:The Springhill Depot Trading Post is a new NIGHT event taking place just steps from downtown Springhill at the farmers MARKET pavilion. The covered Farmers Market pavilion will be filled with music\, shopping\, food\, and art
URL:https://greatermindenchamber.com/event/springhill-depot-trading-post-2019-06-29/
LOCATION:Springhill Main Street\, Springhill\, United States
CATEGORIES:Community Events
ATTACH;FMTTYPE=image/jpeg:https://greatermindenchamber.com/wp-content/uploads/2019/04/springhill-trading.jpg
END:VEVENT
BEGIN:VEVENT
DTSTART;TZID=America/Chicago:20190703T170000
DTEND;TZID=America/Chicago:20190703T213000
DTSTAMP:20260425T051838
CREATED:20190627T151442Z
LAST-MODIFIED:20190627T151442Z
UID:7710-1562173200-1562189400@greatermindenchamber.com
SUMMARY:4th of July Extravaganza
DESCRIPTION:City of Minden – Making It Work and the Greater Minden Chamber hopes you will join us in Downtown Minden\, LA on Wednesday\, July 3rd\, 2019 for our 4th of July Extravaganza Presented by Gibsland Bank & Trust and Hathorn Fireworks on Homer Road. The fun starts at 5:00pm and will include the following – Bounce Houses (provided by Inflate the fun)\, a Duck Derby (hosted by the Greater Minden Chamber) hot dogs provided by Walmart Minden and cooked by Gibsland Bank & Trust\, cold drinks provided by Coca-Cola Bottling Co. of Minden\, music\, and a fireworks show produced by Pyrotechnician Bistineau Blasters Fireworks w/Brent Hunt at dusk. \nWe’d like to thank our additional sponsors –\nMeadowview Health and Rehab Center\, Jason Parker for Sheriff\, The Gardner Group (TG Companies\, LLC\, Minden’s Finest Storage\, Orleans on Main) Minden Family Dental\, Ivan Smith Furniture – Minden\, Ryan Gatti for State Senator District 36 . \nLooking forward to seeing you all in downtown Minden on July 3rd!
URL:https://greatermindenchamber.com/event/4th-of-july-extravaganza/
LOCATION:Downtown Minden\, LA\, Main Street\, Minden\, LA\, 71055\, United States
CATEGORIES:Community Events
ATTACH;FMTTYPE=image/jpeg:https://greatermindenchamber.com/wp-content/uploads/2019/06/extravaganza.jpg
ORGANIZER;CN="Greater Minden Chamber":MAILTO:info@greatermindenchamber.com
END:VEVENT
BEGIN:VEVENT
DTSTART;TZID=America/Chicago:20190703T183000
DTEND;TZID=America/Chicago:20190703T200000
DTSTAMP:20260425T051838
CREATED:20190624T131747Z
LAST-MODIFIED:20190624T131747Z
UID:7682-1562178600-1562184000@greatermindenchamber.com
SUMMARY:First Wednesday Service -Babineaux
DESCRIPTION:Join us as we welcome this month’s guest speakers\, Philip and Jennifer Babineaux. \nChildcare will be provided
URL:https://greatermindenchamber.com/event/first-wednesday-service-babineaux/
LOCATION:Lake Bistineau State Park\, 103 State Park Road\, Doyline\, 71023\, United States
CATEGORIES:Community Events
ATTACH;FMTTYPE=image/jpeg:https://greatermindenchamber.com/wp-content/uploads/2019/06/ccam.jpg
ORGANIZER;CN="The Christian Church At Minden":MAILTO:info@theccam.org
END:VEVENT
BEGIN:VEVENT
DTSTART;TZID=America/Chicago:20190706T120000
DTEND;TZID=America/Chicago:20190706T120000
DTSTAMP:20260425T051838
CREATED:20190624T132021Z
LAST-MODIFIED:20190624T132021Z
UID:7686-1562414400-1562414400@greatermindenchamber.com
SUMMARY:Free Chili Dog Plates
DESCRIPTION:Free chili dog plates! Available to anyone. No limit on number of plates you can pick up. Given on a first come first serve basis. We will start giving plates at noon on July 6 and go until we run out of food.
URL:https://greatermindenchamber.com/event/free-chili-dog-plates/
LOCATION:The Christian Church at Minden\, 814 Constable St\, Minden\, LA\, 71055\, United States
CATEGORIES:Community Events
ATTACH;FMTTYPE=image/jpeg:https://greatermindenchamber.com/wp-content/uploads/2019/06/chili-dogs.jpg
ORGANIZER;CN="The Christian Church At Minden":MAILTO:info@theccam.org
END:VEVENT
BEGIN:VEVENT
DTSTART;TZID=UTC:20190708T090000
DTEND;TZID=UTC:20190712T140000
DTSTAMP:20260425T051838
CREATED:20190531T013515Z
LAST-MODIFIED:20190531T013515Z
UID:7584-1562576400-1562940000@greatermindenchamber.com
SUMMARY:MAD Camp
DESCRIPTION:MAD (Music.Art.Drama) Camp is coming soon! \nEveryone loves a rainbow ! 🌈 Not only is it a wonder of creation\, radiating beauty after a rain\, but more importantly as a sign of the covenant\, reminding us of God’s overwhelming love and grace. “A Technicolor Promise” is a re-telling of the events surrounding this promise. \nFee: $50 per child. Before and after care will be available for an additional $25.00. You may register and pay online on our website:mindenmethodist.org or pick up a form at the church office.
URL:https://greatermindenchamber.com/event/mad-camp/
LOCATION:First United Methodist Church\, 903 Broadway Street\, Minden\, LA\, 71055\, United States
CATEGORIES:Community Events
ATTACH;FMTTYPE=image/jpeg:https://greatermindenchamber.com/wp-content/uploads/2019/05/FUMC-camp.jpg
END:VEVENT
BEGIN:VEVENT
DTSTART;TZID=America/Chicago:20190710T100000
DTEND;TZID=America/Chicago:20190710T110000
DTSTAMP:20260425T051838
CREATED:20190708T190032Z
LAST-MODIFIED:20190708T190032Z
UID:7802-1562752800-1562756400@greatermindenchamber.com
SUMMARY:David LeBoeuf Magic Show
DESCRIPTION:Join us for a magical time with David LeBoeuf. All ages welcome.
URL:https://greatermindenchamber.com/event/david-leboeuf-magic-show/
LOCATION:Webster Parish Library\, 521 East & West Street\, Minden\, LA\, 71055\, United States
CATEGORIES:Community Events
ATTACH;FMTTYPE=image/jpeg:https://greatermindenchamber.com/wp-content/uploads/2019/07/magic-show.jpg
END:VEVENT
BEGIN:VEVENT
DTSTART;TZID=UTC:20190718T190000
DTEND;TZID=UTC:20190718T213000
DTSTAMP:20260425T051838
CREATED:20190412T232306Z
LAST-MODIFIED:20190415T181737Z
UID:7325-1563476400-1563485400@greatermindenchamber.com
SUMMARY:The Music Man
DESCRIPTION:Book\, Music and Lyrics by\nMeredith Willson \nStory by\nMeredith Willson and Franklin Lacey \nDirected by:\nDee Alexander \nSponsored by:\nThe Gale and Lucy Chumley family \nPlot:\nThe Music Man follows\, Harold Hill\, a fast-talking salesman/con man as he convinces the people of River City\, Iowa\, that they need instruments and uniforms for a boys’ band. Mr. Hill promises to organize this band despite the fact that he knows absolutely nothing of music\, much less how to conduct a full band. His plans to skip town with the cash are foiled when he falls for Marian\, the librarian\, who transforms him into a decent\, respectable citizen by the finale. \nDates:\nJuly 18 – July 20 at 7 PM\nJuly 21 at 2 PM \nWhere:\nThe Dixie Center for the Arts\n212 Vienna St.\nRuston\, La 71270 \nTickets:\nAdults – $18 for musical\nStudent/Child – $9 for musical \nTickets on sale at www.rctruston.org on July 4
URL:https://greatermindenchamber.com/event/the-music-man/
LOCATION:Dixie Center for the Arts\, 212 N. Vienna Street\, Ruston\, LA\, 71270\, United States
CATEGORIES:Community Events
ATTACH;FMTTYPE=image/jpeg:https://greatermindenchamber.com/wp-content/uploads/2019/04/The-Music-Man-Facebook-Cover-Show-1.jpg
ORGANIZER;CN="ruston Community Theatre":MAILTO:rcttheatre@gmail.com
END:VEVENT
BEGIN:VEVENT
DTSTART;TZID=UTC:20190719T140000
DTEND;TZID=UTC:20190723T163000
DTSTAMP:20260425T051838
CREATED:20190412T232306Z
LAST-MODIFIED:20190415T181739Z
UID:7327-1563544800-1563899400@greatermindenchamber.com
SUMMARY:The Music Man
DESCRIPTION:Book\, Music and Lyrics by\nMeredith Willson \nStory by\nMeredith Willson and Franklin Lacey \nDirected by:\nDee Alexander \nSponsored by:\nThe Gale and Lucy Chumley family \nPlot:\nThe Music Man follows\, Harold Hill\, a fast-talking salesman/con man as he convinces the people of River City\, Iowa\, that they need instruments and uniforms for a boys’ band. Mr. Hill promises to organize this band despite the fact that he knows absolutely nothing of music\, much less how to conduct a full band. His plans to skip town with the cash are foiled when he falls for Marian\, the librarian\, who transforms him into a decent\, respectable citizen by the finale. \nDates:\nJuly 18 – July 20 at 7 PM\nJuly 21 at 2 PM \nWhere:\nThe Dixie Center for the Arts\n212 Vienna St.\nRuston\, La 71270 \nTickets:\nAdults – $18 for musical\nStudent/Child – $9 for musical \nTickets on sale at www.rctruston.org on July 4
URL:https://greatermindenchamber.com/event/the-music-man-2019-07-19/
LOCATION:Dixie Center for the Arts\, 212 N. Vienna Street\, Ruston\, LA\, 71270\, United States
CATEGORIES:Community Events
ATTACH;FMTTYPE=image/jpeg:https://greatermindenchamber.com/wp-content/uploads/2019/04/The-Music-Man-Facebook-Cover-Show-1.jpg
ORGANIZER;CN="ruston Community Theatre":MAILTO:rcttheatre@gmail.com
END:VEVENT
BEGIN:VEVENT
DTSTART;TZID=UTC:20190719T190000
DTEND;TZID=UTC:20190719T213000
DTSTAMP:20260425T051838
CREATED:20190412T232306Z
LAST-MODIFIED:20190412T232306Z
UID:7351-1563562800-1563571800@greatermindenchamber.com
SUMMARY:The Music Man
DESCRIPTION:Book\, Music and Lyrics by\nMeredith Willson \nStory by\nMeredith Willson and Franklin Lacey \nDirected by:\nDee Alexander \nSponsored by:\nThe Gale and Lucy Chumley family \nPlot:\nThe Music Man follows\, Harold Hill\, a fast-talking salesman/con man as he convinces the people of River City\, Iowa\, that they need instruments and uniforms for a boys’ band. Mr. Hill promises to organize this band despite the fact that he knows absolutely nothing of music\, much less how to conduct a full band. His plans to skip town with the cash are foiled when he falls for Marian\, the librarian\, who transforms him into a decent\, respectable citizen by the finale. \nDates:\nJuly 18 – July 20 at 7 PM\nJuly 21 at 2 PM \nWhere:\nThe Dixie Center for the Arts\n212 Vienna St.\nRuston\, La 71270 \nTickets:\nAdults – $18 for musical\nStudent/Child – $9 for musical \nTickets on sale at www.rctruston.org on July 4
URL:https://greatermindenchamber.com/event/the-music-man-2019-07-19-2/
LOCATION:Dixie Center for the Arts\, 212 N. Vienna Street\, Ruston\, LA\, 71270\, United States
CATEGORIES:Community Events
ATTACH;FMTTYPE=image/jpeg:https://greatermindenchamber.com/wp-content/uploads/2019/04/The-Music-Man-Facebook-Cover-Show-1.jpg
ORGANIZER;CN="ruston Community Theatre":MAILTO:rcttheatre@gmail.com
END:VEVENT
BEGIN:VEVENT
DTSTART;TZID=UTC:20190720T140000
DTEND;TZID=UTC:20190724T163000
DTSTAMP:20260425T051838
CREATED:20190412T232306Z
LAST-MODIFIED:20190415T181739Z
UID:7329-1563631200-1563985800@greatermindenchamber.com
SUMMARY:The Music Man
DESCRIPTION:Book\, Music and Lyrics by\nMeredith Willson \nStory by\nMeredith Willson and Franklin Lacey \nDirected by:\nDee Alexander \nSponsored by:\nThe Gale and Lucy Chumley family \nPlot:\nThe Music Man follows\, Harold Hill\, a fast-talking salesman/con man as he convinces the people of River City\, Iowa\, that they need instruments and uniforms for a boys’ band. Mr. Hill promises to organize this band despite the fact that he knows absolutely nothing of music\, much less how to conduct a full band. His plans to skip town with the cash are foiled when he falls for Marian\, the librarian\, who transforms him into a decent\, respectable citizen by the finale. \nDates:\nJuly 18 – July 20 at 7 PM\nJuly 21 at 2 PM \nWhere:\nThe Dixie Center for the Arts\n212 Vienna St.\nRuston\, La 71270 \nTickets:\nAdults – $18 for musical\nStudent/Child – $9 for musical \nTickets on sale at www.rctruston.org on July 4
URL:https://greatermindenchamber.com/event/the-music-man-2019-07-20/
LOCATION:Dixie Center for the Arts\, 212 N. Vienna Street\, Ruston\, LA\, 71270\, United States
CATEGORIES:Community Events
ATTACH;FMTTYPE=image/jpeg:https://greatermindenchamber.com/wp-content/uploads/2019/04/The-Music-Man-Facebook-Cover-Show-1.jpg
ORGANIZER;CN="ruston Community Theatre":MAILTO:rcttheatre@gmail.com
END:VEVENT
END:VCALENDAR