BEGIN:VCALENDAR
VERSION:2.0
PRODID:-//Greater Minden Chamber - ECPv6.15.20//NONSGML v1.0//EN
CALSCALE:GREGORIAN
METHOD:PUBLISH
X-WR-CALNAME:Greater Minden Chamber
X-ORIGINAL-URL:https://greatermindenchamber.com
X-WR-CALDESC:Events for Greater Minden Chamber
REFRESH-INTERVAL;VALUE=DURATION:PT1H
X-Robots-Tag:noindex
X-PUBLISHED-TTL:PT1H
BEGIN:VTIMEZONE
TZID:America/Chicago
BEGIN:DAYLIGHT
TZOFFSETFROM:-0600
TZOFFSETTO:-0500
TZNAME:CDT
DTSTART:20250309T080000
END:DAYLIGHT
BEGIN:STANDARD
TZOFFSETFROM:-0500
TZOFFSETTO:-0600
TZNAME:CST
DTSTART:20251102T070000
END:STANDARD
BEGIN:DAYLIGHT
TZOFFSETFROM:-0600
TZOFFSETTO:-0500
TZNAME:CDT
DTSTART:20260308T080000
END:DAYLIGHT
BEGIN:STANDARD
TZOFFSETFROM:-0500
TZOFFSETTO:-0600
TZNAME:CST
DTSTART:20261101T070000
END:STANDARD
BEGIN:DAYLIGHT
TZOFFSETFROM:-0600
TZOFFSETTO:-0500
TZNAME:CDT
DTSTART:20270314T080000
END:DAYLIGHT
BEGIN:STANDARD
TZOFFSETFROM:-0500
TZOFFSETTO:-0600
TZNAME:CST
DTSTART:20271107T070000
END:STANDARD
END:VTIMEZONE
BEGIN:VEVENT
DTSTART;TZID=America/Chicago:20260115T163000
DTEND;TZID=America/Chicago:20260115T193000
DTSTAMP:20260421T080150
CREATED:20251223T161116Z
LAST-MODIFIED:20251223T161116Z
UID:21611-1768494600-1768505400@greatermindenchamber.com
SUMMARY:RN & LPN Career Fair
DESCRIPTION:Join us for the MMC Nursing Career Fair on Thursday\, January 15th. We will be conducting onsite interviews. Whether you’re a recent graduate or an experienced RN or LPN\, we invite you to attend!
URL:https://greatermindenchamber.com/event/rn-lpn-career-fair/
LOCATION:Minden Medical Center Human Resources & Education Dept\, 729 Main Street\, Minden\, LA\, 71055\, United States
CATEGORIES:Job Fair
ATTACH;FMTTYPE=image/jpeg:https://greatermindenchamber.com/wp-content/uploads/2025/12/MMC-Resource-Fair.jpg
END:VEVENT
END:VCALENDAR