BEGIN:VCALENDAR
VERSION:2.0
PRODID:-//Greater Minden Chamber - ECPv6.15.20//NONSGML v1.0//EN
CALSCALE:GREGORIAN
METHOD:PUBLISH
X-WR-CALNAME:Greater Minden Chamber
X-ORIGINAL-URL:https://greatermindenchamber.com
X-WR-CALDESC:Events for Greater Minden Chamber
REFRESH-INTERVAL;VALUE=DURATION:PT1H
X-Robots-Tag:noindex
X-PUBLISHED-TTL:PT1H
BEGIN:VTIMEZONE
TZID:America/Chicago
BEGIN:DAYLIGHT
TZOFFSETFROM:-0600
TZOFFSETTO:-0500
TZNAME:CDT
DTSTART:20180311T080000
END:DAYLIGHT
BEGIN:STANDARD
TZOFFSETFROM:-0500
TZOFFSETTO:-0600
TZNAME:CST
DTSTART:20181104T070000
END:STANDARD
BEGIN:DAYLIGHT
TZOFFSETFROM:-0600
TZOFFSETTO:-0500
TZNAME:CDT
DTSTART:20190310T080000
END:DAYLIGHT
BEGIN:STANDARD
TZOFFSETFROM:-0500
TZOFFSETTO:-0600
TZNAME:CST
DTSTART:20191103T070000
END:STANDARD
BEGIN:DAYLIGHT
TZOFFSETFROM:-0600
TZOFFSETTO:-0500
TZNAME:CDT
DTSTART:20200308T080000
END:DAYLIGHT
BEGIN:STANDARD
TZOFFSETFROM:-0500
TZOFFSETTO:-0600
TZNAME:CST
DTSTART:20201101T070000
END:STANDARD
BEGIN:DAYLIGHT
TZOFFSETFROM:-0600
TZOFFSETTO:-0500
TZNAME:CDT
DTSTART:20210314T080000
END:DAYLIGHT
BEGIN:STANDARD
TZOFFSETFROM:-0500
TZOFFSETTO:-0600
TZNAME:CST
DTSTART:20211107T070000
END:STANDARD
END:VTIMEZONE
BEGIN:VEVENT
DTSTART;TZID=America/Chicago:20191230T173000
DTEND;TZID=America/Chicago:20191230T173000
DTSTAMP:20260420T094803
CREATED:20190918T211931Z
LAST-MODIFIED:20190918T211931Z
UID:8126-1577727000-1577727000@greatermindenchamber.com
SUMMARY:Community First High School Night Classes
DESCRIPTION:Have a full-time day job\, but still need your high school diploma?\nEnroll in our FREE night classes at Community First High School!\nHow?\nCome to Community First High School TONIGHT\,\nSeptember 9\, 2019\, 5:30 PM-8:30 PM\n202 Miller St.\nMinden\, LA 70155 \nLearn how to earn your HiSet diploma by attending our night class\nMeet the Director(s) and teacher(s)\nEnjoy a welcoming atmosphere of support!
URL:https://greatermindenchamber.com/event/community-first-high-school-night-classes-2019-12-30/
LOCATION:Community First High School\, 202 Miller St\, Minden\, LA\, 71055\, United States
ATTACH;FMTTYPE=image/jpeg:https://greatermindenchamber.com/wp-content/uploads/2019/08/Community-First-High-School-scaled.jpg
END:VEVENT
BEGIN:VEVENT
DTSTART;TZID=America/Chicago:20200106T173000
DTEND;TZID=America/Chicago:20200106T190000
DTSTAMP:20260420T094803
CREATED:20191203T202722Z
LAST-MODIFIED:20191203T202722Z
UID:8368-1578331800-1578337200@greatermindenchamber.com
SUMMARY:Minden City Council Meetings
DESCRIPTION:Minden’s City Council Meeting at 5:30 pm. We Will Be Discussing Several Items. And We Would Like To Hear From You. Please Come And Take Part In This Meeting.
URL:https://greatermindenchamber.com/event/minden-city-council-meetings-2/
LOCATION:Minden City Hall\, Minden\, United States
CATEGORIES:Community Events
ATTACH;FMTTYPE=image/jpeg:https://greatermindenchamber.com/wp-content/uploads/2019/12/City-Council.jpg
END:VEVENT
BEGIN:VEVENT
DTSTART;VALUE=DATE:20200130
DTEND;VALUE=DATE:20200204
DTSTAMP:20260420T094803
CREATED:20191205T142449Z
LAST-MODIFIED:20191205T142449Z
UID:8387-1580342400-1580774399@greatermindenchamber.com
SUMMARY:Minden St. Jude Auction
DESCRIPTION:More information to come
URL:https://greatermindenchamber.com/event/minden-st-jude-auction-2/
LOCATION:Minden Civic Center\, 520 Broadway\, Minden\, 71055\, United States
CATEGORIES:Community Events,Fundraiser
END:VEVENT
BEGIN:VEVENT
DTSTART;TZID=America/Chicago:20200203T173000
DTEND;TZID=America/Chicago:20200203T190000
DTSTAMP:20260420T094803
CREATED:20191203T202722Z
LAST-MODIFIED:20191203T202722Z
UID:8371-1580751000-1580756400@greatermindenchamber.com
SUMMARY:Minden City Council Meetings
DESCRIPTION:Minden’s City Council Meeting at 5:30 pm. We Will Be Discussing Several Items. And We Would Like To Hear From You. Please Come And Take Part In This Meeting.
URL:https://greatermindenchamber.com/event/minden-city-council-meetings-2-2020-02-03/
LOCATION:Minden City Hall\, Minden\, United States
CATEGORIES:Community Events
ATTACH;FMTTYPE=image/jpeg:https://greatermindenchamber.com/wp-content/uploads/2019/12/City-Council.jpg
END:VEVENT
BEGIN:VEVENT
DTSTART;TZID=America/Chicago:20200208T000000
DTEND;TZID=America/Chicago:20200208T000000
DTSTAMP:20260420T094803
CREATED:20191205T142249Z
LAST-MODIFIED:20191205T142249Z
UID:8385-1581120000-1581120000@greatermindenchamber.com
SUMMARY:Mardi Gras Parade
DESCRIPTION:More information to come
URL:https://greatermindenchamber.com/event/mardi-gras-parade/
LOCATION:Downtown Minden\, LA\, Main Street\, Minden\, LA\, 71055\, United States
CATEGORIES:Community Events
END:VEVENT
BEGIN:VEVENT
DTSTART;TZID=America/Chicago:20200302T173000
DTEND;TZID=America/Chicago:20200302T190000
DTSTAMP:20260420T094803
CREATED:20191203T202722Z
LAST-MODIFIED:20191203T202722Z
UID:8372-1583170200-1583175600@greatermindenchamber.com
SUMMARY:Minden City Council Meetings
DESCRIPTION:Minden’s City Council Meeting at 5:30 pm. We Will Be Discussing Several Items. And We Would Like To Hear From You. Please Come And Take Part In This Meeting.
URL:https://greatermindenchamber.com/event/minden-city-council-meetings-2-2020-03-02/
LOCATION:Minden City Hall\, Minden\, United States
CATEGORIES:Community Events
ATTACH;FMTTYPE=image/jpeg:https://greatermindenchamber.com/wp-content/uploads/2019/12/City-Council.jpg
END:VEVENT
BEGIN:VEVENT
DTSTART;TZID=America/Chicago:20200303T183000
DTEND;TZID=America/Chicago:20200303T210000
DTSTAMP:20260420T094803
CREATED:20191203T200956Z
LAST-MODIFIED:20200204T225541Z
UID:8357-1583260200-1583269200@greatermindenchamber.com
SUMMARY:Greater Minden Chamber Awards Gala
DESCRIPTION:Sponsorship Form\n 
URL:https://greatermindenchamber.com/event/greater-minden-chamber-awards-gala/
LOCATION:Minden Civic Center\, 520 Broadway\, Minden\, 71055\, United States
CATEGORIES:Community Events
ATTACH;FMTTYPE=image/png:https://greatermindenchamber.com/wp-content/uploads/2019/12/gala-save-the-date.png
ORGANIZER;CN="Greater Minden Chamber":MAILTO:info@greatermindenchamber.com
END:VEVENT
BEGIN:VEVENT
DTSTART;TZID=America/Chicago:20200406T173000
DTEND;TZID=America/Chicago:20200406T190000
DTSTAMP:20260420T094803
CREATED:20191203T202722Z
LAST-MODIFIED:20191203T202722Z
UID:8373-1586194200-1586199600@greatermindenchamber.com
SUMMARY:Minden City Council Meetings
DESCRIPTION:Minden’s City Council Meeting at 5:30 pm. We Will Be Discussing Several Items. And We Would Like To Hear From You. Please Come And Take Part In This Meeting.
URL:https://greatermindenchamber.com/event/minden-city-council-meetings-2-2020-04-06/
LOCATION:Minden City Hall\, Minden\, United States
CATEGORIES:Community Events
ATTACH;FMTTYPE=image/jpeg:https://greatermindenchamber.com/wp-content/uploads/2019/12/City-Council.jpg
END:VEVENT
BEGIN:VEVENT
DTSTART;TZID=America/Chicago:20200504T173000
DTEND;TZID=America/Chicago:20200504T190000
DTSTAMP:20260420T094803
CREATED:20191203T202722Z
LAST-MODIFIED:20191203T202722Z
UID:8374-1588613400-1588618800@greatermindenchamber.com
SUMMARY:Minden City Council Meetings
DESCRIPTION:Minden’s City Council Meeting at 5:30 pm. We Will Be Discussing Several Items. And We Would Like To Hear From You. Please Come And Take Part In This Meeting.
URL:https://greatermindenchamber.com/event/minden-city-council-meetings-2-2020-05-04/
LOCATION:Minden City Hall\, Minden\, United States
CATEGORIES:Community Events
ATTACH;FMTTYPE=image/jpeg:https://greatermindenchamber.com/wp-content/uploads/2019/12/City-Council.jpg
END:VEVENT
BEGIN:VEVENT
DTSTART;TZID=America/Chicago:20200601T173000
DTEND;TZID=America/Chicago:20200601T190000
DTSTAMP:20260420T094803
CREATED:20191203T202722Z
LAST-MODIFIED:20191203T202722Z
UID:8375-1591032600-1591038000@greatermindenchamber.com
SUMMARY:Minden City Council Meetings
DESCRIPTION:Minden’s City Council Meeting at 5:30 pm. We Will Be Discussing Several Items. And We Would Like To Hear From You. Please Come And Take Part In This Meeting.
URL:https://greatermindenchamber.com/event/minden-city-council-meetings-2-2020-06-01/
LOCATION:Minden City Hall\, Minden\, United States
CATEGORIES:Community Events
ATTACH;FMTTYPE=image/jpeg:https://greatermindenchamber.com/wp-content/uploads/2019/12/City-Council.jpg
END:VEVENT
BEGIN:VEVENT
DTSTART;TZID=America/Chicago:20200703T160000
DTEND;TZID=America/Chicago:20200703T210000
DTSTAMP:20260420T094803
CREATED:20200519T183603Z
LAST-MODIFIED:20200519T183603Z
UID:8608-1593792000-1593810000@greatermindenchamber.com
SUMMARY:2nd Annual Duck Derby and Fireworks
DESCRIPTION:
URL:https://greatermindenchamber.com/event/2nd-annual-duck-derby-and-fireworks/
LOCATION:Geaux Fresh\, 801 Broadway Street\, Minden\, LA\, 71055\, United States
CATEGORIES:Community Events
ORGANIZER;CN="Greater Minden Chamber":MAILTO:info@greatermindenchamber.com
END:VEVENT
BEGIN:VEVENT
DTSTART;TZID=America/Chicago:20200706T173000
DTEND;TZID=America/Chicago:20200706T190000
DTSTAMP:20260420T094803
CREATED:20191203T202722Z
LAST-MODIFIED:20191203T202722Z
UID:8376-1594056600-1594062000@greatermindenchamber.com
SUMMARY:Minden City Council Meetings
DESCRIPTION:Minden’s City Council Meeting at 5:30 pm. We Will Be Discussing Several Items. And We Would Like To Hear From You. Please Come And Take Part In This Meeting.
URL:https://greatermindenchamber.com/event/minden-city-council-meetings-2-2020-07-06/
LOCATION:Minden City Hall\, Minden\, United States
CATEGORIES:Community Events
ATTACH;FMTTYPE=image/jpeg:https://greatermindenchamber.com/wp-content/uploads/2019/12/City-Council.jpg
END:VEVENT
BEGIN:VEVENT
DTSTART;TZID=America/Chicago:20200803T173000
DTEND;TZID=America/Chicago:20200803T190000
DTSTAMP:20260420T094803
CREATED:20191203T202722Z
LAST-MODIFIED:20191203T202722Z
UID:8377-1596475800-1596481200@greatermindenchamber.com
SUMMARY:Minden City Council Meetings
DESCRIPTION:Minden’s City Council Meeting at 5:30 pm. We Will Be Discussing Several Items. And We Would Like To Hear From You. Please Come And Take Part In This Meeting.
URL:https://greatermindenchamber.com/event/minden-city-council-meetings-2-2020-08-03/
LOCATION:Minden City Hall\, Minden\, United States
CATEGORIES:Community Events
ATTACH;FMTTYPE=image/jpeg:https://greatermindenchamber.com/wp-content/uploads/2019/12/City-Council.jpg
END:VEVENT
BEGIN:VEVENT
DTSTART;TZID=America/Chicago:20200907T173000
DTEND;TZID=America/Chicago:20200907T190000
DTSTAMP:20260420T094803
CREATED:20191203T202722Z
LAST-MODIFIED:20191203T202722Z
UID:8378-1599499800-1599505200@greatermindenchamber.com
SUMMARY:Minden City Council Meetings
DESCRIPTION:Minden’s City Council Meeting at 5:30 pm. We Will Be Discussing Several Items. And We Would Like To Hear From You. Please Come And Take Part In This Meeting.
URL:https://greatermindenchamber.com/event/minden-city-council-meetings-2-2020-09-07/
LOCATION:Minden City Hall\, Minden\, United States
CATEGORIES:Community Events
ATTACH;FMTTYPE=image/jpeg:https://greatermindenchamber.com/wp-content/uploads/2019/12/City-Council.jpg
END:VEVENT
BEGIN:VEVENT
DTSTART;TZID=America/Chicago:20200923T080000
DTEND;TZID=America/Chicago:20200923T170000
DTSTAMP:20260420T094803
CREATED:20200921T215043Z
LAST-MODIFIED:20200921T215043Z
UID:8724-1600848000-1600880400@greatermindenchamber.com
SUMMARY:GMC Board of Directors Meeting
DESCRIPTION:
URL:https://greatermindenchamber.com/event/gmc-board-of-directors-meeting/
LOCATION:Geaux Fresh\, 801 Broadway Street\, Minden\, LA\, 71055\, United States
CATEGORIES:Community Events
ORGANIZER;CN="Greater Minden Chamber":MAILTO:info@greatermindenchamber.com
END:VEVENT
BEGIN:VEVENT
DTSTART;TZID=America/Chicago:20200923T080000
DTEND;TZID=America/Chicago:20200923T170000
DTSTAMP:20260420T094803
CREATED:20200921T215120Z
LAST-MODIFIED:20200921T215120Z
UID:8726-1600848000-1600880400@greatermindenchamber.com
SUMMARY:Northwest Louisiana Legislative Summit
DESCRIPTION:
URL:https://greatermindenchamber.com/event/northwest-louisiana-legislative-summit/
LOCATION:Geaux Fresh\, 801 Broadway Street\, Minden\, LA\, 71055\, United States
CATEGORIES:Community Events
ORGANIZER;CN="Greater Minden Chamber":MAILTO:info@greatermindenchamber.com
END:VEVENT
BEGIN:VEVENT
DTSTART;TZID=America/Chicago:20200924T140000
DTEND;TZID=America/Chicago:20200924T160000
DTSTAMP:20260420T094803
CREATED:20200921T215423Z
LAST-MODIFIED:20200921T215423Z
UID:8728-1600956000-1600963200@greatermindenchamber.com
SUMMARY:Seeds Women's Center Open House & UItrasound Reveal
DESCRIPTION:
URL:https://greatermindenchamber.com/event/seeds-womens-center-open-house-uitrasound-reveal/
LOCATION:Seeds Women’s Center\, 308 Pine Street\, Minden\, LA\, 71055\, United States
CATEGORIES:Community Events
ORGANIZER;CN="Greater Minden Chamber":MAILTO:info@greatermindenchamber.com
END:VEVENT
BEGIN:VEVENT
DTSTART;TZID=America/Chicago:20200925T080000
DTEND;TZID=America/Chicago:20200925T170000
DTSTAMP:20260420T094803
CREATED:20200921T215504Z
LAST-MODIFIED:20200921T215504Z
UID:8731-1601020800-1601053200@greatermindenchamber.com
SUMMARY:15 Under 40 Nominations DEADLINE
DESCRIPTION:
URL:https://greatermindenchamber.com/event/15-under-40-nominations-deadline/
LOCATION:Geaux Fresh\, 801 Broadway Street\, Minden\, LA\, 71055\, United States
CATEGORIES:Community Events
ORGANIZER;CN="Greater Minden Chamber":MAILTO:info@greatermindenchamber.com
END:VEVENT
BEGIN:VEVENT
DTSTART;VALUE=DATE:20200929
DTEND;VALUE=DATE:20201004
DTSTAMP:20260420T094803
CREATED:20191106T224039Z
LAST-MODIFIED:20200921T211434Z
UID:8304-1601337600-1601769599@greatermindenchamber.com
SUMMARY:Webster Parish Fair - CANCELED
DESCRIPTION:The Webster Parish Fair has been Canceled.
URL:https://greatermindenchamber.com/event/webster-parish-fair/
LOCATION:Minden Fairgrounds\, 800 Goodwill St\, Minden\, LA\, 71055\, United States
CATEGORIES:Community Events
ATTACH;FMTTYPE=image/jpeg:https://greatermindenchamber.com/wp-content/uploads/2019/11/DSC_0292-scaled.jpg
END:VEVENT
BEGIN:VEVENT
DTSTART;TZID=America/Chicago:20200930T120000
DTEND;TZID=America/Chicago:20200930T130000
DTSTAMP:20260420T094803
CREATED:20200921T215753Z
LAST-MODIFIED:20200921T215753Z
UID:8733-1601467200-1601470800@greatermindenchamber.com
SUMMARY:Impressions Advertising Ribbon Cutting
DESCRIPTION:
URL:https://greatermindenchamber.com/event/impressions-advertising-ribbon-cutting/
LOCATION:Impressions Advertising\, 128 Frontage Road\, Minden\, LA\, 71055\, United States
CATEGORIES:Community Events
ORGANIZER;CN="Greater Minden Chamber":MAILTO:info@greatermindenchamber.com
END:VEVENT
BEGIN:VEVENT
DTSTART;TZID=America/Chicago:20201005T173000
DTEND;TZID=America/Chicago:20201005T190000
DTSTAMP:20260420T094803
CREATED:20191203T202722Z
LAST-MODIFIED:20191203T202722Z
UID:8379-1601919000-1601924400@greatermindenchamber.com
SUMMARY:Minden City Council Meetings
DESCRIPTION:Minden’s City Council Meeting at 5:30 pm. We Will Be Discussing Several Items. And We Would Like To Hear From You. Please Come And Take Part In This Meeting.
URL:https://greatermindenchamber.com/event/minden-city-council-meetings-2-2020-10-05/
LOCATION:Minden City Hall\, Minden\, United States
CATEGORIES:Community Events
ATTACH;FMTTYPE=image/jpeg:https://greatermindenchamber.com/wp-content/uploads/2019/12/City-Council.jpg
END:VEVENT
BEGIN:VEVENT
DTSTART;TZID=America/Chicago:20201030T170000
DTEND;TZID=America/Chicago:20201030T180000
DTSTAMP:20260420T094803
CREATED:20201028T200225Z
LAST-MODIFIED:20201029T142526Z
UID:8824-1604077200-1604080800@greatermindenchamber.com
SUMMARY:Wine Tasting Night
DESCRIPTION:Dan Nash with Landry Wine ( Louisiana’s largest producer of wine) will be on location.
URL:https://greatermindenchamber.com/event/wine-tasting-night/
LOCATION:Mike’s Hometown Spirits\, 214 Homer Rd\, Minden\, LA\, 71055
ATTACH;FMTTYPE=image/jpeg:https://greatermindenchamber.com/wp-content/uploads/2020/10/Mikes-wine-tasting-scaled.jpg
END:VEVENT
BEGIN:VEVENT
DTSTART;TZID=America/Chicago:20201102T173000
DTEND;TZID=America/Chicago:20201102T190000
DTSTAMP:20260420T094803
CREATED:20191203T202722Z
LAST-MODIFIED:20191203T202722Z
UID:8380-1604338200-1604343600@greatermindenchamber.com
SUMMARY:Minden City Council Meetings
DESCRIPTION:Minden’s City Council Meeting at 5:30 pm. We Will Be Discussing Several Items. And We Would Like To Hear From You. Please Come And Take Part In This Meeting.
URL:https://greatermindenchamber.com/event/minden-city-council-meetings-2-2020-11-02/
LOCATION:Minden City Hall\, Minden\, United States
CATEGORIES:Community Events
ATTACH;FMTTYPE=image/jpeg:https://greatermindenchamber.com/wp-content/uploads/2019/12/City-Council.jpg
END:VEVENT
BEGIN:VEVENT
DTSTART;TZID=America/Chicago:20201103T050000
DTEND;TZID=America/Chicago:20201103T220000
DTSTAMP:20260420T094803
CREATED:20201027T192153Z
LAST-MODIFIED:20201027T192421Z
UID:8803-1604379600-1604440800@greatermindenchamber.com
SUMMARY:Vote.Pray.Love
DESCRIPTION:Prayer vigil to be held at First United Methodist Church 903 Broadway\, Minden La from 5am to 10Pm on election day. Security will be provided
URL:https://greatermindenchamber.com/event/vote-pray-love/
LOCATION:First United Methodist Church\, 903 Broadway Street\, Minden\, LA\, 71055\, United States
ATTACH;FMTTYPE=image/jpeg:https://greatermindenchamber.com/wp-content/uploads/2020/10/vote.pray_.love_.jpg
END:VEVENT
BEGIN:VEVENT
DTSTART;TZID=America/Chicago:20201104T163000
DTEND;TZID=America/Chicago:20201104T170000
DTSTAMP:20260420T094803
CREATED:20201027T183837Z
LAST-MODIFIED:20201027T192634Z
UID:8800-1604507400-1604509200@greatermindenchamber.com
SUMMARY:Ribbon Cutting & 10 Year Anniversary Celebration
DESCRIPTION:Come out and celebrate the new membership and 10 year Anniversary of Alice’s Soul Kitchen with a ribbon cutting and refreshments.
URL:https://greatermindenchamber.com/event/ribbon-cutting-10-year-anniversary-celebration/
LOCATION:Alice’s Sould Kitchen\, 1204 Shreveport Rd.\, Minden\, LA\, 71055
ATTACH;FMTTYPE=image/jpeg:https://greatermindenchamber.com/wp-content/uploads/2020/10/Alices-ribbon-cutting-full-1-scaled.jpg
ORGANIZER;CN="Greater Minden Chamber":MAILTO:info@greatermindenchamber.com
END:VEVENT
BEGIN:VEVENT
DTSTART;VALUE=DATE:20201106
DTEND;VALUE=DATE:20201108
DTSTAMP:20260420T094803
CREATED:20201019T142154Z
LAST-MODIFIED:20201019T142154Z
UID:8782-1604620800-1604793599@greatermindenchamber.com
SUMMARY:Main to Main
DESCRIPTION:The Annual Webster Parish Main to Main Trade Days takes place the first weekend in November along a 45-mile stretch throughout Webster Parish. The Minden and Springhill Main Street Projects teams up with the towns located primarily along Highway 371.
URL:https://greatermindenchamber.com/event/main-to-main-2/
LOCATION:Minden\, LA\, LA\, 71055\, United States
CATEGORIES:Community Events
ATTACH;FMTTYPE=image/jpeg:https://greatermindenchamber.com/wp-content/uploads/2020/10/IMG_0996-scaled.jpg
END:VEVENT
BEGIN:VEVENT
DTSTART;VALUE=DATE:20201106
DTEND;VALUE=DATE:20201108
DTSTAMP:20260420T094803
CREATED:20201028T195949Z
LAST-MODIFIED:20201028T200316Z
UID:8818-1604620800-1604793599@greatermindenchamber.com
SUMMARY:Bricktown - Minden's Premier Shopping Event
DESCRIPTION:
URL:https://greatermindenchamber.com/event/bricktown/
ATTACH;FMTTYPE=image/jpeg:https://greatermindenchamber.com/wp-content/uploads/2020/10/Bricktown-1.jpg
END:VEVENT
BEGIN:VEVENT
DTSTART;TZID=America/Chicago:20201113T110000
DTEND;TZID=America/Chicago:20201113T120000
DTSTAMP:20260420T094803
CREATED:20201027T193442Z
LAST-MODIFIED:20201027T193459Z
UID:8809-1605265200-1605268800@greatermindenchamber.com
SUMMARY:Let's Talk Turkey
DESCRIPTION:Sign up for a Thanksgiving food safety overview. Learn how to prepare your turkey safely\, and how to thaw a turkey properly.
URL:https://greatermindenchamber.com/event/lets-talk-turkey/
LOCATION:Online Via Microsoft teams
ATTACH;FMTTYPE=image/jpeg:https://greatermindenchamber.com/wp-content/uploads/2020/10/lets-talk-turkey.jpg
END:VEVENT
BEGIN:VEVENT
DTSTART;TZID=America/Chicago:20201113T130000
DTEND;TZID=America/Chicago:20201113T133000
DTSTAMP:20260420T094803
CREATED:20201029T142002Z
LAST-MODIFIED:20201029T142733Z
UID:8838-1605272400-1605274200@greatermindenchamber.com
SUMMARY:Preferred Recovery Solutions Ribbon Cutting
DESCRIPTION:Join us in welcoming Preferred Recovery Solutions as a new member to The Greater Minden Chamber with a ribbon cutting.
URL:https://greatermindenchamber.com/event/preferred-recovery-solutions-ribbon-cutting/
LOCATION:Preferred Recovery Solutions\, 1839 Hwy 531\, Minden\, LA\, 71055
ATTACH;FMTTYPE=image/jpeg:https://greatermindenchamber.com/wp-content/uploads/2020/10/full-preferred-recovery-solutions-ribon-cutting--scaled.jpg
ORGANIZER;CN="Greater Minden Chamber":MAILTO:info@greatermindenchamber.com
END:VEVENT
BEGIN:VEVENT
DTSTART;VALUE=DATE:20201120
DTEND;VALUE=DATE:20201216
DTSTAMP:20260420T094803
CREATED:20201027T175104Z
LAST-MODIFIED:20201028T162307Z
UID:8791-1605830400-1608076799@greatermindenchamber.com
SUMMARY:2020 Christmas Toy Drive
DESCRIPTION:There are 6 drop off locations for this years toy drive\, The Greater Minden Chamber\, Alice’s Soul Kitchen\, Webster Printing\, Red Blooms\, Ivan Smith and Mikes Hometown Spirits. You can find a list of recommended toys by age here on the Toy drive list.
URL:https://greatermindenchamber.com/event/8791/
LOCATION:Geaux Fresh\, 801 Broadway Street\, Minden\, LA\, 71055\, United States
ATTACH;FMTTYPE=image/jpeg:https://greatermindenchamber.com/wp-content/uploads/2020/10/Christmas-toy-drive-flyer-1-scaled.jpg
ORGANIZER;CN="Greater Minden Chamber":MAILTO:info@greatermindenchamber.com
END:VEVENT
END:VCALENDAR