BEGIN:VCALENDAR
VERSION:2.0
PRODID:-//Greater Minden Chamber - ECPv6.15.20//NONSGML v1.0//EN
CALSCALE:GREGORIAN
METHOD:PUBLISH
X-WR-CALNAME:Greater Minden Chamber
X-ORIGINAL-URL:https://greatermindenchamber.com
X-WR-CALDESC:Events for Greater Minden Chamber
REFRESH-INTERVAL;VALUE=DURATION:PT1H
X-Robots-Tag:noindex
X-PUBLISHED-TTL:PT1H
BEGIN:VTIMEZONE
TZID:America/Chicago
BEGIN:DAYLIGHT
TZOFFSETFROM:-0600
TZOFFSETTO:-0500
TZNAME:CDT
DTSTART:20180311T080000
END:DAYLIGHT
BEGIN:STANDARD
TZOFFSETFROM:-0500
TZOFFSETTO:-0600
TZNAME:CST
DTSTART:20181104T070000
END:STANDARD
BEGIN:DAYLIGHT
TZOFFSETFROM:-0600
TZOFFSETTO:-0500
TZNAME:CDT
DTSTART:20190310T080000
END:DAYLIGHT
BEGIN:STANDARD
TZOFFSETFROM:-0500
TZOFFSETTO:-0600
TZNAME:CST
DTSTART:20191103T070000
END:STANDARD
BEGIN:DAYLIGHT
TZOFFSETFROM:-0600
TZOFFSETTO:-0500
TZNAME:CDT
DTSTART:20200308T080000
END:DAYLIGHT
BEGIN:STANDARD
TZOFFSETFROM:-0500
TZOFFSETTO:-0600
TZNAME:CST
DTSTART:20201101T070000
END:STANDARD
END:VTIMEZONE
BEGIN:VTIMEZONE
TZID:UTC
BEGIN:STANDARD
TZOFFSETFROM:+0000
TZOFFSETTO:+0000
TZNAME:UTC
DTSTART:20180101T000000
END:STANDARD
END:VTIMEZONE
BEGIN:VEVENT
DTSTART;TZID=America/Chicago:20191116T080000
DTEND;TZID=America/Chicago:20191116T110000
DTSTAMP:20260422T092204
CREATED:20190718T154948Z
LAST-MODIFIED:20190718T154948Z
UID:7843-1573891200-1573902000@greatermindenchamber.com
SUMMARY:Webster Council on Aging Miles for Meals 5K
DESCRIPTION:Hosted by the Webster Council on Aging\, the Miles for Meals 5K is held to raise funds for our Meals on Wheels program to feed senior adults in our community who go without. We will run through neighborhoods around Sheppard Street and end with a post-race party and lunch fundraiser. Join us for an exciting event and help us end senior hunger in Webster Parish. \nStarting Time: 8:00am Saturday\, November 16\, 2019 \nRace Course: The course will begin and end near the Webster Council on Aging parking lot at 1482 Sheppard St. in Minden\, LA. Participants will run/walk through neighborhoods north and south of Sheppard Street. \nRegistration: Early Registration is $25 until November 1st. All participants who register by November 1st will receive a short sleeve official Miles for Meals T-shirt. Late Registration is $30 November 2nd – Race Day. Student Price is $20 at all times. Chip timing is included in registration fee. \nPacket Pickup: Friday\, November 15th\, 8-5pm\, at Webster Council on Aging at 1482 Sheppard St and Race Day 8am-5:45pm before race. \nAge Group Awards: A male and female in each of the following age groups will receive awards: 12 and under\, 13-18\, 19-25\, 26-30\, 31-35\, 36-40\, 41-45\, 46-50\, 51-55\, 56-65\, 66+. There will also be an overall 1st place male & female award. \nGiving to end hunger: We are asking that participants bring canned food items to be used in meals served to feed seniors in our Meals on Wheels program. \nPost-Race Party: Lunch plate tickets will be sold before and after the race so stick around! \nInclement Weather: Call 371-3056 for updates on race day weather.
URL:https://greatermindenchamber.com/event/webster-council-on-aging-miles-for-meals-5k/
LOCATION:Webster Parish Council on Aging\, 1482 Sheppard Street\, Minden\, 71055\, United States
CATEGORIES:Fundraiser
ATTACH;FMTTYPE=image/png:https://greatermindenchamber.com/wp-content/uploads/2019/07/WPCOA-Miles-for-Meals-5K-logo-blueandwhite.png
ORGANIZER;CN="Greater Minden Chamber":MAILTO:info@greatermindenchamber.com
END:VEVENT
BEGIN:VEVENT
DTSTART;VALUE=DATE:20191115
DTEND;VALUE=DATE:20191116
DTSTAMP:20260422T092204
CREATED:20190802T153121Z
LAST-MODIFIED:20191106T220224Z
UID:7918-1573776000-1573862399@greatermindenchamber.com
SUMMARY:Small Business Saturday-Minden
DESCRIPTION:Welcome to the neighborhood. \nGet up\, get out\, get together and shop local in historical Minden\, LA. on Small Business Saturday. Join our local merchants for a day of fun celebrating our Small Businesses. \nShop Small Saturday is a great day to do a little Christmas shopping\, have lunch\, and enjoy the season. This event is held in conjunction with American Express Small Business Saturday and is a great way to show your support for small businesses. \nTo start the day off there will be a Kick-Off Brunch at Geaux Fresh starting at 9AM. \nThere will be open houses\,side walk sales\, in store specials along with drawings and giveaways. Shoppers will receive a Shop Small tote bag with purchase while supplies last. \nMakers Market on Pearl Street\nShop Small Scavenger Passport Hunt\nRaffle-details coming soon.
URL:https://greatermindenchamber.com/event/small-business-saturday-minden-2/
LOCATION:Minden\, LA\, LA\, 71055\, United States
CATEGORIES:Community Events
ATTACH;FMTTYPE=image/jpeg:https://greatermindenchamber.com/wp-content/uploads/2019/08/shop-small-saturday-2.jpg
ORGANIZER;CN="DBA-Minden":MAILTO:bhobbies1@gmail.com
END:VEVENT
BEGIN:VEVENT
DTSTART;TZID=America/Chicago:20191114T180000
DTEND;TZID=America/Chicago:20191114T200000
DTSTAMP:20260422T092204
CREATED:20190822T212521Z
LAST-MODIFIED:20191029T140816Z
UID:8019-1573754400-1573761600@greatermindenchamber.com
SUMMARY:2019 Northwest Louisiana Pregnancy Care Center Banquet
DESCRIPTION:The 2019 Northwest Louisiana Pregnancy Care Center Banquet will be held on Thursday\, November 14\, 2019 beginning at 6 p.m. There will be an auction held during the meal\, which will be served at 6:30 p.m. The program will begin at 7:15 p.m. The guest speaker this year is Michelle Durand\, Founder and Executive Director of Tears to Treasures. \nFor more information call 318.639.0907
URL:https://greatermindenchamber.com/event/2019-northwest-louisiana-pregnancy-care-center-banquet/
LOCATION:Northwest Louisiana Pregnancy Center\, 402 Broadway\, Minden\, LA\, 71055\, United States
CATEGORIES:Community Events,Fundraiser
ATTACH;FMTTYPE=image/jpeg:https://greatermindenchamber.com/wp-content/uploads/2019/08/NWLPC-scaled.jpg
ORGANIZER;CN="Northwest Louisiana Pregnancy Care Center":MAILTO:nwlpcc@gmail.com
END:VEVENT
BEGIN:VEVENT
DTSTART;TZID=America/Chicago:20191114T180000
DTEND;TZID=America/Chicago:20191114T190000
DTSTAMP:20260422T092204
CREATED:20191101T134818Z
LAST-MODIFIED:20191101T134818Z
UID:8283-1573754400-1573758000@greatermindenchamber.com
SUMMARY:Art Attack!
DESCRIPTION:Ages 5 and up meet in the main meeting room at 6 for a super fun hour of art with Ms. Jennifer.
URL:https://greatermindenchamber.com/event/art-attack-4/
LOCATION:Webster Parish Library\, 521 East & West Street\, Minden\, LA\, 71055\, United States
CATEGORIES:Community Events
ATTACH;FMTTYPE=image/jpeg:https://greatermindenchamber.com/wp-content/uploads/2019/04/art-attack.jpg
END:VEVENT
BEGIN:VEVENT
DTSTART;TZID=America/Chicago:20191114T173000
DTEND;TZID=America/Chicago:20191114T200000
DTSTAMP:20260422T092204
CREATED:20191023T182545Z
LAST-MODIFIED:20191023T182545Z
UID:8247-1573752600-1573761600@greatermindenchamber.com
SUMMARY:Christmas Girl’s Night - Sip & Shop
DESCRIPTION:Join us for our Christmas Girl’s Night Sip & Shop! Get your Christmas shopping done for the whole family! We’ll provide snacks and drinks. The first 25 ladies through the door will receive a special surprise so don’t be late! 🎄🎅🏼
URL:https://greatermindenchamber.com/event/christmas-girls-night-sip-shop/
LOCATION:Ramsey’s Southern Outfitters\, LLC\, 457 Highway 531\, Minden\, LA\, 71055\, United States
ATTACH;FMTTYPE=image/jpeg:https://greatermindenchamber.com/wp-content/uploads/2019/10/ramseys-sip-and-shop.jpg
END:VEVENT
BEGIN:VEVENT
DTSTART;TZID=America/Chicago:20191113T190000
DTEND;TZID=America/Chicago:20191113T190000
DTSTAMP:20260422T092204
CREATED:20191107T230021Z
LAST-MODIFIED:20191107T230021Z
UID:8310-1573671600-1573671600@greatermindenchamber.com
SUMMARY:Roma Italian Bistro Minden Trivia Night
DESCRIPTION:🚨 It is Settled!!! 🚨\nFriends Trivia Night on Wednesday Nov. 13th!\n8 groups of 4-6 people!\nFree reservations and free to play!\nStarts at 7 p.m.\nWinners get prizes 🎁\nCall to make your reservations ASAP!\nThis is our first ever Trivia Night!\nHope y’all are as exited as we are\, come and have some fun with us❗️
URL:https://greatermindenchamber.com/event/roma-italian-bistro-minden-trivia-night/
LOCATION:Roma Italian Bistro Minden\, 519 Main St\, Minden\, LA\, 71055\, United States
CATEGORIES:Community Events
ATTACH;FMTTYPE=image/jpeg:https://greatermindenchamber.com/wp-content/uploads/2019/11/friends-trivia.jpg
END:VEVENT
BEGIN:VEVENT
DTSTART;TZID=America/Chicago:20191111T180000
DTEND;TZID=America/Chicago:20191111T190000
DTSTAMP:20260422T092204
CREATED:20191101T134415Z
LAST-MODIFIED:20191101T134415Z
UID:8277-1573495200-1573498800@greatermindenchamber.com
SUMMARY:Tinker Lab
DESCRIPTION:Ages 5-12 meet in the main meeting room at 6 p.m. Be prepared to get messy and have some fun!
URL:https://greatermindenchamber.com/event/tinker-lab-5/
LOCATION:Webster Parish Library\, 521 East & West Street\, Minden\, LA\, 71055\, United States
CATEGORIES:Community Events
ATTACH;FMTTYPE=image/jpeg:https://greatermindenchamber.com/wp-content/uploads/2019/04/creation-station.jpg
END:VEVENT
BEGIN:VEVENT
DTSTART;TZID=America/Chicago:20191111T173000
DTEND;TZID=America/Chicago:20191111T173000
DTSTAMP:20260422T092204
CREATED:20190918T211931Z
LAST-MODIFIED:20190918T211931Z
UID:8119-1573493400-1573493400@greatermindenchamber.com
SUMMARY:Community First High School Night Classes
DESCRIPTION:Have a full-time day job\, but still need your high school diploma?\nEnroll in our FREE night classes at Community First High School!\nHow?\nCome to Community First High School TONIGHT\,\nSeptember 9\, 2019\, 5:30 PM-8:30 PM\n202 Miller St.\nMinden\, LA 70155 \nLearn how to earn your HiSet diploma by attending our night class\nMeet the Director(s) and teacher(s)\nEnjoy a welcoming atmosphere of support!
URL:https://greatermindenchamber.com/event/community-first-high-school-night-classes-2019-11-11/
LOCATION:Community First High School\, 202 Miller St\, Minden\, LA\, 71055\, United States
ATTACH;FMTTYPE=image/jpeg:https://greatermindenchamber.com/wp-content/uploads/2019/08/Community-First-High-School-scaled.jpg
END:VEVENT
BEGIN:VEVENT
DTSTART;TZID=America/Chicago:20191110T130000
DTEND;TZID=America/Chicago:20191110T160000
DTSTAMP:20260422T092204
CREATED:20191024T141834Z
LAST-MODIFIED:20191024T141834Z
UID:8251-1573390800-1573401600@greatermindenchamber.com
SUMMARY:Red Blooms Christmas Open House
DESCRIPTION:Join us for our Christmas Open House \nSunday November 9th 1-4pm \n25% off all Fall Decor
URL:https://greatermindenchamber.com/event/red-blooms-christmas-open-house/
LOCATION:Red Blooms Floral Design\, 731 Main St\, Minden\, LA\, 71055\, United States
ATTACH;FMTTYPE=image/jpeg:https://greatermindenchamber.com/wp-content/uploads/2019/10/red-blooks-christmas.jpg
END:VEVENT
BEGIN:VEVENT
DTSTART;TZID=America/Chicago:20191110T120000
DTEND;TZID=America/Chicago:20191110T170000
DTSTAMP:20260422T092204
CREATED:20191030T135806Z
LAST-MODIFIED:20191030T135806Z
UID:8261-1573387200-1573405200@greatermindenchamber.com
SUMMARY:Fishy Stitches & Gifts Open House
DESCRIPTION:🌲☃️Check Out Our Christmas Open House!!! 🌲☃️ November 9️⃣&1️⃣0️⃣!!! Deals\, Refreshments\, And Much More!!! https://fishystitchesandgifts.square.site
URL:https://greatermindenchamber.com/event/fishy-stitches-gifts-open-house-2019-11-10/
LOCATION:Fishy Stitches & Gifts\, 106 Ryans Way\, Minden\, LA\, 71055\, United States
ATTACH;FMTTYPE=image/jpeg:https://greatermindenchamber.com/wp-content/uploads/2019/10/fishy-stitches-open-house.jpg
END:VEVENT
BEGIN:VEVENT
DTSTART;TZID=America/Chicago:20191110T120000
DTEND;TZID=America/Chicago:20191110T170000
DTSTAMP:20260422T092204
CREATED:20191021T144014Z
LAST-MODIFIED:20191021T144014Z
UID:8246-1573387200-1573405200@greatermindenchamber.com
SUMMARY:TG Companies Christmas Open House
DESCRIPTION:Its close to that time of year again. Our Christmas Open House is Saturday\, the 9th of November ( 8 a.m. – 5 p.m.) and Sunday the 10th\, (Noon – 5 p.m.) this year. Mark these times and dates on your calendars! More updates to come!!
URL:https://greatermindenchamber.com/event/tg-companies-christmas-open-house-2019-11-10/
LOCATION:TG Companies\, LLC\, 456 Hwy 531\, Minden\, LA\, 71055\, United States
ATTACH;FMTTYPE=image/jpeg:https://greatermindenchamber.com/wp-content/uploads/2019/10/TG.jpg
END:VEVENT
BEGIN:VEVENT
DTSTART;TZID=America/Chicago:20191109T190000
DTEND;TZID=America/Chicago:20191109T210000
DTSTAMP:20260422T092204
CREATED:20190729T195317Z
LAST-MODIFIED:20190729T195317Z
UID:7888-1573326000-1573333200@greatermindenchamber.com
SUMMARY:Miss Minden & Spirit of Fasching Pageant
DESCRIPTION:
URL:https://greatermindenchamber.com/event/miss-minden-spirit-of-fasching-pageant/
LOCATION:Minden Civic Center\, 520 Broadway\, Minden\, 71055\, United States
CATEGORIES:Community Events
ATTACH;FMTTYPE=image/jpeg:https://greatermindenchamber.com/wp-content/uploads/2019/07/65485699_2323142254399058_428908666972798976_n.jpg
END:VEVENT
BEGIN:VEVENT
DTSTART;TZID=America/Chicago:20191109T080000
DTEND;TZID=America/Chicago:20191109T170000
DTSTAMP:20260422T092204
CREATED:20191030T135806Z
LAST-MODIFIED:20191030T135806Z
UID:8256-1573286400-1573318800@greatermindenchamber.com
SUMMARY:Fishy Stitches & Gifts Open House
DESCRIPTION:🌲☃️Check Out Our Christmas Open House!!! 🌲☃️ November 9️⃣&1️⃣0️⃣!!! Deals\, Refreshments\, And Much More!!! https://fishystitchesandgifts.square.site
URL:https://greatermindenchamber.com/event/fishy-stitches-gifts-open-house/
LOCATION:Fishy Stitches & Gifts\, 106 Ryans Way\, Minden\, LA\, 71055\, United States
ATTACH;FMTTYPE=image/jpeg:https://greatermindenchamber.com/wp-content/uploads/2019/10/fishy-stitches-open-house.jpg
END:VEVENT
BEGIN:VEVENT
DTSTART;TZID=America/Chicago:20191109T080000
DTEND;TZID=America/Chicago:20191109T170000
DTSTAMP:20260422T092204
CREATED:20191021T144014Z
LAST-MODIFIED:20191021T144014Z
UID:8242-1573286400-1573318800@greatermindenchamber.com
SUMMARY:TG Companies Christmas Open House
DESCRIPTION:Its close to that time of year again. Our Christmas Open House is Saturday\, the 9th of November ( 8 a.m. – 5 p.m.) and Sunday the 10th\, (Noon – 5 p.m.) this year. Mark these times and dates on your calendars! More updates to come!!
URL:https://greatermindenchamber.com/event/tg-companies-christmas-open-house/
LOCATION:TG Companies\, LLC\, 456 Hwy 531\, Minden\, LA\, 71055\, United States
ATTACH;FMTTYPE=image/jpeg:https://greatermindenchamber.com/wp-content/uploads/2019/10/TG.jpg
END:VEVENT
BEGIN:VEVENT
DTSTART;TZID=America/Chicago:20191108T083000
DTEND;TZID=America/Chicago:20191108T093000
DTSTAMP:20260422T092204
CREATED:20191104T165131Z
LAST-MODIFIED:20191104T165131Z
UID:8298-1573201800-1573205400@greatermindenchamber.com
SUMMARY:Walmart Minden Grand Reopening
DESCRIPTION:Remodel Update: You’ll love the new upgrades all over the store. Please join us this Friday November 8th at 8:30 am as we have our Grand ReOpening. Thanks you for all of your patience over the last 14 weeks as we have made improvements.
URL:https://greatermindenchamber.com/event/walmart-minden-grand-reopening/
LOCATION:Walmart Supercenter\, 1379 Homer Rd\, Minden\, LA\, 71055\, United States
CATEGORIES:Community Events,Networking
ATTACH;FMTTYPE=image/jpeg:https://greatermindenchamber.com/wp-content/uploads/2019/11/grand-reopening.jpg
END:VEVENT
BEGIN:VEVENT
DTSTART;TZID=America/Chicago:20191107T170000
DTEND;TZID=America/Chicago:20191107T193000
DTSTAMP:20260422T092204
CREATED:20191104T164204Z
LAST-MODIFIED:20191104T164204Z
UID:8295-1573146000-1573155000@greatermindenchamber.com
SUMMARY:November Steak Night
DESCRIPTION:Who is ready?! Geaux Fresh Steak Night is back on November 7th!
URL:https://greatermindenchamber.com/event/november-steak-night/
LOCATION:Geaux Fresh\, 801 Broadway St.\, Minden\, 71055\, United States
ATTACH;FMTTYPE=image/jpeg:https://greatermindenchamber.com/wp-content/uploads/2019/11/steak-night.jpg
END:VEVENT
BEGIN:VEVENT
DTSTART;TZID=America/Chicago:20191107T160000
DTEND;TZID=America/Chicago:20191107T170000
DTSTAMP:20260422T092204
CREATED:20191101T134641Z
LAST-MODIFIED:20191101T134641Z
UID:8280-1573142400-1573146000@greatermindenchamber.com
SUMMARY:4 O'Clock Club
DESCRIPTION:Children’s book club meets at 4 in the main meeting room to discuss their selections for the month. Ages 8-12.
URL:https://greatermindenchamber.com/event/4-oclock-club-2/
LOCATION:Webster Parish Library\, 521 East & West Street\, Minden\, LA\, 71055\, United States
CATEGORIES:Community Events
ATTACH;FMTTYPE=image/jpeg:https://greatermindenchamber.com/wp-content/uploads/2019/11/4-o-clock-club.jpg
END:VEVENT
BEGIN:VEVENT
DTSTART;TZID=America/Chicago:20191105T180000
DTEND;TZID=America/Chicago:20191105T200000
DTSTAMP:20260422T092204
CREATED:20191101T134218Z
LAST-MODIFIED:20191101T134218Z
UID:8273-1572976800-1572984000@greatermindenchamber.com
SUMMARY:Family Movie Night
DESCRIPTION:Through his bond with his owner\, aspiring Formula One race car driver Denny\, golden retriever Enzo learns that the techniques needed on the racetrack can also be used to successfully navigate the journey of life.\nFree Popcorn and drinks will be provided.
URL:https://greatermindenchamber.com/event/family-movie-night-7/
LOCATION:Webster Parish Library\, 521 East & West Street\, Minden\, LA\, 71055\, United States
CATEGORIES:Community Events
ATTACH;FMTTYPE=image/jpeg:https://greatermindenchamber.com/wp-content/uploads/2019/11/nov-5-movie-night.jpg
END:VEVENT
BEGIN:VEVENT
DTSTART;TZID=America/Chicago:20191105T173000
DTEND;TZID=America/Chicago:20191105T183000
DTSTAMP:20260422T092204
CREATED:20191104T173501Z
LAST-MODIFIED:20191104T173501Z
UID:8301-1572975000-1572978600@greatermindenchamber.com
SUMMARY:The Rec Booster Club Meeting
DESCRIPTION:In the MVP Room at The Rec
URL:https://greatermindenchamber.com/event/the-rec-booster-club-meeting-2/
LOCATION:Minden Recreation Center\, 1001 Recreation Dr\, Minen\, LA\, 71055\, United States
CATEGORIES:Community Events
ATTACH;FMTTYPE=image/jpeg:https://greatermindenchamber.com/wp-content/uploads/2019/05/rec-booster.jpg
END:VEVENT
BEGIN:VEVENT
DTSTART;TZID=America/Chicago:20191104T173000
DTEND;TZID=America/Chicago:20191104T173000
DTSTAMP:20260422T092205
CREATED:20190918T211931Z
LAST-MODIFIED:20190918T211931Z
UID:8118-1572888600-1572888600@greatermindenchamber.com
SUMMARY:Community First High School Night Classes
DESCRIPTION:Have a full-time day job\, but still need your high school diploma?\nEnroll in our FREE night classes at Community First High School!\nHow?\nCome to Community First High School TONIGHT\,\nSeptember 9\, 2019\, 5:30 PM-8:30 PM\n202 Miller St.\nMinden\, LA 70155 \nLearn how to earn your HiSet diploma by attending our night class\nMeet the Director(s) and teacher(s)\nEnjoy a welcoming atmosphere of support!
URL:https://greatermindenchamber.com/event/community-first-high-school-night-classes-2019-11-04/
LOCATION:Community First High School\, 202 Miller St\, Minden\, LA\, 71055\, United States
ATTACH;FMTTYPE=image/jpeg:https://greatermindenchamber.com/wp-content/uploads/2019/08/Community-First-High-School-scaled.jpg
END:VEVENT
BEGIN:VEVENT
DTSTART;TZID=UTC:20191104T173000
DTEND;TZID=UTC:20191104T173000
DTSTAMP:20260422T092205
CREATED:20190117T021806Z
LAST-MODIFIED:20190117T021806Z
UID:5983-1572888600-1572888600@greatermindenchamber.com
SUMMARY:Minden City Council Meetings
DESCRIPTION:Minden’s City Council Meeting at 5:30 pm. We Will Be Discussing Several Items. And We Would Like To Hear From You. Please Come And Take Part In This Meeting.
URL:https://greatermindenchamber.com/event/minden-city-council-meetings-2019-11-04/
LOCATION:Minden City Hall\, Minden\, United States
ATTACH;FMTTYPE=image/jpeg:https://greatermindenchamber.com/wp-content/uploads/2019/01/City-Council.jpg
END:VEVENT
BEGIN:VEVENT
DTSTART;TZID=America/Chicago:20191102T100000
DTEND;TZID=America/Chicago:20191102T160000
DTSTAMP:20260422T092205
CREATED:20191101T135512Z
LAST-MODIFIED:20191101T135512Z
UID:8292-1572688800-1572710400@greatermindenchamber.com
SUMMARY:Frilly Mindens 2nd Annual Holiday Open House
DESCRIPTION:Come and join us for our 2nd annual holiday open house! We will be releasing several holiday tees and TONS of new never before seen inventory! We will have swag bags for the first 10 people to check out\, snacks\, discounts and so much more! This event was a huge success and such a great time last year so we are hoping to see y’all again this year!
URL:https://greatermindenchamber.com/event/frilly-mindens-2nd-annual-holiday-open-house/
LOCATION:Frilly Magnolia Boutique Minden\, 406 Broadway\, Minden\, LA\, 71055\, United States
ATTACH;FMTTYPE=image/jpeg:https://greatermindenchamber.com/wp-content/uploads/2019/11/frilly-open-house.jpg
END:VEVENT
BEGIN:VEVENT
DTSTART;TZID=America/Chicago:20191102T080000
DTEND;TZID=America/Chicago:20191102T170000
DTSTAMP:20260422T092205
CREATED:20191101T133743Z
LAST-MODIFIED:20191101T133743Z
UID:8272-1572681600-1572714000@greatermindenchamber.com
SUMMARY:Hers Bridal & Special Occasion + Plus Size Casablanca Trunk Show
DESCRIPTION:Come discover the most gorgeous plus size Casablanca Bridal gowns at the Hers Bridal & Special Occasion Trunk Show event! For more information\, or to reserve your spot\, visit https://app.bridallive.com/bl-server/appointmentScheduler/1a26e84b/wrapper.shtml? or contact (318) 377-6669.
URL:https://greatermindenchamber.com/event/hers-bridal-special-occasion-plus-size-casablanca-trunk-show-2019-11-02/
LOCATION:Hers Bridal & Special Occasion\, 728 Main Street\, Minden\, LA\, 71055\, United States
ATTACH;FMTTYPE=image/jpeg:https://greatermindenchamber.com/wp-content/uploads/2019/11/trunk-show.jpg
END:VEVENT
BEGIN:VEVENT
DTSTART;TZID=America/Chicago:20191101T080000
DTEND;TZID=America/Chicago:20191101T170000
DTSTAMP:20260422T092205
CREATED:20191101T133743Z
LAST-MODIFIED:20191101T133743Z
UID:8268-1572595200-1572627600@greatermindenchamber.com
SUMMARY:Hers Bridal & Special Occasion + Plus Size Casablanca Trunk Show
DESCRIPTION:Come discover the most gorgeous plus size Casablanca Bridal gowns at the Hers Bridal & Special Occasion Trunk Show event! For more information\, or to reserve your spot\, visit https://app.bridallive.com/bl-server/appointmentScheduler/1a26e84b/wrapper.shtml? or contact (318) 377-6669.
URL:https://greatermindenchamber.com/event/hers-bridal-special-occasion-plus-size-casablanca-trunk-show/
LOCATION:Hers Bridal & Special Occasion\, 728 Main Street\, Minden\, LA\, 71055\, United States
ATTACH;FMTTYPE=image/jpeg:https://greatermindenchamber.com/wp-content/uploads/2019/11/trunk-show.jpg
END:VEVENT
BEGIN:VEVENT
DTSTART;VALUE=DATE:20191101
DTEND;VALUE=DATE:20191103
DTSTAMP:20260422T092205
CREATED:20190801T143941Z
LAST-MODIFIED:20190809T140036Z
UID:7910-1572566400-1572739199@greatermindenchamber.com
SUMMARY:Main to Main
DESCRIPTION:The 20th Annual Webster Parish Main to Main Trade Days will take place November 1-2\, 2019 along a 50-mile stretch throughout Webster Parish. The Minden and Springhill Main Street Projects will team up with the towns located primarily along Highway 371 as hosts. The route goes from downtown Springhill on Main Street\, then travels south to Cullen’s Main Street\, crosses over to US Highway 371 and continues south into Sarepta\, Cotton Valley and Dixie Inn\, the route turns left on US Highway 80 and goes into downtown Minden. From there shoppers are directed back onto Highway 371 to Sibley and the parish line. \nThe event will include store specials\, antique sales\, flea markets\, garage sales\, food vendors\, bake sales\, church bazaars\, etc. This event will be held rain or shine.
URL:https://greatermindenchamber.com/event/main-to-main/
LOCATION:Down Town Minden Main St.\, United States
CATEGORIES:Community Events
ATTACH;FMTTYPE=image/jpeg:https://greatermindenchamber.com/wp-content/uploads/2019/08/68273835_1654036088061843_3409568395044061184_o-1.jpg
END:VEVENT
BEGIN:VEVENT
DTSTART;TZID=America/Chicago:20191030T183000
DTEND;TZID=America/Chicago:20191030T200000
DTSTAMP:20260422T092205
CREATED:20190918T211206Z
LAST-MODIFIED:20190918T211206Z
UID:8103-1572460200-1572465600@greatermindenchamber.com
SUMMARY:2nd Annual Trunk or Treat
DESCRIPTION:Bring your family and invite your friends! We will have games\, trunk or treating\, food and a hayride!
URL:https://greatermindenchamber.com/event/2nd-annual-trunk-or-treat/
LOCATION:The Christian Church at Minden\, 814 Constable St\, Minden\, LA\, 71055\, United States
CATEGORIES:Community Events
ATTACH;FMTTYPE=image/jpeg:https://greatermindenchamber.com/wp-content/uploads/2019/09/christian-church-trunk-or-treat.jpg
ORGANIZER;CN="The Christian Church At Minden":MAILTO:info@theccam.org
END:VEVENT
BEGIN:VEVENT
DTSTART;TZID=America/Chicago:20191029T183000
DTEND;TZID=America/Chicago:20191029T210000
DTSTAMP:20260422T092205
CREATED:20190821T162603Z
LAST-MODIFIED:20191002T143258Z
UID:8005-1572373800-1572382800@greatermindenchamber.com
SUMMARY:9th Annual 15 Under 40 Awards Gala Presented by TG Companies
DESCRIPTION:You are invited to join us as we recognize our 2019 Class of Top 15 Under 40 Young Professionals. This year’s recipients are a great group of leaders who are already making a big impact in their careers\, as well as our community. \nThey will be recognized at an awards dinner in their honor on Tuesday\, October 29th at the Minden Civic Center. The dinner is presented by TG Companies\, LLC who has continuously supported this event as Presenting Sponsor for the past 8 years. Tickets are $30.00/ea and available for purchase at the Chamber office. Sponsorships are also available. \nWe’d like to thank our Signature Sponsors:\nMinden Medical Center\nB1 BANK\nMinden Family Medicine Clinic\, LLC\nClaiborne Memorial Medical Center\nGibsland Bank & Trust \nAwards Sponsor:\nPerformance Physical Therapy of Minden\, LLC \nTickets on sale at the Chamber office –\n110 Sibley Road\, Minden\, LA\n$30.00/PERSON
URL:https://greatermindenchamber.com/event/2019-15-under-40-gala/
LOCATION:Minden Civic Center\, 520 Broadway\, Minden\, 71055\, United States
CATEGORIES:Community Events,Networking
ATTACH;FMTTYPE=image/jpeg:https://greatermindenchamber.com/wp-content/uploads/2019/08/15-u-40-gala.jpg
ORGANIZER;CN="Greater Minden Chamber":MAILTO:info@greatermindenchamber.com
END:VEVENT
BEGIN:VEVENT
DTSTART;TZID=America/Chicago:20191029T173000
DTEND;TZID=America/Chicago:20191029T193000
DTSTAMP:20260422T092205
CREATED:20191001T132205Z
LAST-MODIFIED:20191021T134249Z
UID:8170-1572370200-1572377400@greatermindenchamber.com
SUMMARY:Fall Festival
DESCRIPTION:Fall Festival will be Tuesday October 29\, 2019 from 5:30-7:30pm at the Minden Rec Center. Please bring your kids for a lot of fun\, food and treats.
URL:https://greatermindenchamber.com/event/fall-festival-2/
LOCATION:Minden Recreation Center\, 1001 Recreation Dr\, Minen\, LA\, 71055\, United States
CATEGORIES:Community Events
ATTACH;FMTTYPE=image/jpeg:https://greatermindenchamber.com/wp-content/uploads/2019/10/rec-fall-fest.jpg
END:VEVENT
BEGIN:VEVENT
DTSTART;TZID=America/Chicago:20191028T173000
DTEND;TZID=America/Chicago:20191028T173000
DTSTAMP:20260422T092205
CREATED:20190918T211931Z
LAST-MODIFIED:20190918T211931Z
UID:8117-1572283800-1572283800@greatermindenchamber.com
SUMMARY:Community First High School Night Classes
DESCRIPTION:Have a full-time day job\, but still need your high school diploma?\nEnroll in our FREE night classes at Community First High School!\nHow?\nCome to Community First High School TONIGHT\,\nSeptember 9\, 2019\, 5:30 PM-8:30 PM\n202 Miller St.\nMinden\, LA 70155 \nLearn how to earn your HiSet diploma by attending our night class\nMeet the Director(s) and teacher(s)\nEnjoy a welcoming atmosphere of support!
URL:https://greatermindenchamber.com/event/community-first-high-school-night-classes-2019-10-28/
LOCATION:Community First High School\, 202 Miller St\, Minden\, LA\, 71055\, United States
ATTACH;FMTTYPE=image/jpeg:https://greatermindenchamber.com/wp-content/uploads/2019/08/Community-First-High-School-scaled.jpg
END:VEVENT
BEGIN:VEVENT
DTSTART;TZID=America/Chicago:20191027T150000
DTEND;TZID=America/Chicago:20191027T170000
DTSTAMP:20260422T092205
CREATED:20191021T140149Z
LAST-MODIFIED:20191021T140149Z
UID:8239-1572188400-1572195600@greatermindenchamber.com
SUMMARY:Fall Festival 2019
DESCRIPTION:Join us for an evening for some fall fun in the park!\nThis event is free to the public with lots of fun activities for the whole family! There will be hotdogs\, snow cones\, bounce houses\, face painting\, games\, prizes\, & more! \nCome out and join us at Victory Park in Minden\, LA on October 27th from 3-5PM! \nHosted by North Acres Baptist Church & Living Word Minden
URL:https://greatermindenchamber.com/event/fall-festival-2019/
LOCATION:Victory Park\, Minden\, 71055\, United States
CATEGORIES:Community Events
ATTACH;FMTTYPE=image/jpeg:https://greatermindenchamber.com/wp-content/uploads/2019/10/living-word-fall-festival.jpg
END:VEVENT
END:VCALENDAR